BEGIN:VCALENDAR
VERSION:2.0
METHOD:REQUEST
PRODID:-//ddaysoftware//NONSGML DDay.iCal 1.0//EN
BEGIN:VTIMEZONE
TZID:US Mountain Standard Time
BEGIN:STANDARD
DTSTART;VALUE=DATE:19000101
TZNAME:US Mountain Standard Time
TZOFFSETFROM:-0700
TZOFFSETTO:-0700
END:STANDARD
END:VTIMEZONE
BEGIN:VEVENT
DESCRIPTION:Microsoft Teams Meeting - https://teams.microsoft.com/meet/2910
 37279187308?p=zmxu7cf15CbISmoiNs\n\nJoin Linda Kile\, your City Benefits A
 dministrator to learn about your 2026-27 medical plan options. As part of 
 our commitment to provide comprehensive benefits\, we will be holding a po
 sitive enrollment this year. This means all employees and retirees who wou
 ld like to have medical coverage starting July 1\, 2026 must actively enro
 ll and elect medical coverage during the May 4 – June 1 5:PM Arizona time 
 open enrollment period.This event is online via Microsoft Teams.Microsoft 
 Teams meeting \nJoin: https://teams.microsoft.com/meet/291037279187308?p=z
 mxu7cf15CbISmoiNsMeeting ID: 291 037 279 187 308 Passcode: F9sK9vd6 Dial i
 n by phone +1 213-293-2303\,\,264241191#Phone conference ID: 264 241 191# 
 \n\n
DTEND;TZID=US Mountain Standard Time:20260504T123000
DTSTAMP:20260415T235011Z
DTSTART;TZID=US Mountain Standard Time:20260504T110000
LAST-MODIFIED:20260415T235011Z
LOCATION:https://teams.microsoft.com/meet/291037279187308?p=zmxu7cf15CbISmo
 iNs
ORGANIZER;CN=Jacob Pawson via City of Tucson:MAILTO:fe7a5e60-0bd9-443e-925f
 -3a8743a5077e.21@oneteam.tucsonaz.gov
SEQUENCE:0
SUMMARY:All Employees Open Enrollment Meeting -- Virtual
UID:fe7a5e60-0bd9-443e-925f-3a8743a5077e
X-ALT-DESC;FMTTYPE=text/html;FMTTYPE=text/html:Microsoft Teams Meeting - ht
 tps://teams.microsoft.com/meet/291037279187308?p=zmxu7cf15CbISmoiNs\n\n<hr
 /><div><p id="isPasted">Join Linda Kile\, your City Benefits Administrator
  to <strong>learn about your 202</strong><strong>6</strong><strong>-</stro
 ng><strong>27</strong> <strong>medical plan options.</strong> </p><p>As pa
 rt of our commitment to provide comprehensive benefits\, we will be holdin
 g a positive enrollment this year. This means all <strong>employees and re
 tirees who would like to have medical coverage starting July 1\, 20</stron
 g><strong>26</strong> <strong>must actively enroll and elect medical</stro
 ng> coverage during the May 4 – June 1 5:PM Arizona time open enrollment p
 eriod.</p><p><strong>This event is </strong><strong>online via Microsoft T
 eams.</strong></p><p><strong>Microsoft Teams meeting</strong> </p><p id="i
 sPasted"><strong>Join: </strong><a href="https://teams.microsoft.com/meet/
 291037279187308?p=zmxu7cf15CbISmoiNs" title="Meeting join">https://teams.m
 icrosoft.com/meet/291037279187308?p=zmxu7cf15CbISmoiNs</a><br/>Meeting ID:
  291 037 279 187 308 <br/>Passcode: F9sK9vd6 </p><p><strong>Dial in by pho
 ne</strong> <br/><a href="tel:+12132932303\,\,264241191">+1 213-293-2303\,
 \,264241191#</a><br/>Phone conference ID: 264 241 191# </p></div>\n\n
END:VEVENT
END:VCALENDAR
