BEGIN:VCALENDAR
VERSION:2.0
METHOD:REQUEST
PRODID:-//ddaysoftware//NONSGML DDay.iCal 1.0//EN
BEGIN:VTIMEZONE
TZID:US Mountain Standard Time
BEGIN:STANDARD
DTSTART;VALUE=DATE:19000101
TZNAME:US Mountain Standard Time
TZOFFSETFROM:-0700
TZOFFSETTO:-0700
END:STANDARD
END:VTIMEZONE
BEGIN:VEVENT
DESCRIPTION:4004 S Park Ave\, Bldg 2\, Tucson -- EOC Conference Room\n\nJoi
 n Linda Kile\, your City Benefits Administrator to learn about your 2026-2
 7 medical plan options. As part of our commitment to provide comprehensive
  benefits\, we will be holding a positive enrollment this year. This means
  all employees and retirees who would like to have medical coverage starti
 ng July 1\, 2026 must actively enroll and elect medical coverage during th
 e May 4 – June 1 5:PM Arizona time open enrollment period.This event is in
 -person at the Tucson City Office worksite location.\n\n
DTEND;TZID=US Mountain Standard Time:20260507T183000
DTSTAMP:20260413T164707Z
DTSTART;TZID=US Mountain Standard Time:20260507T163000
LAST-MODIFIED:20260413T164707Z
LOCATION:4004 S Park Ave\, Tucson\, AZ
ORGANIZER;CN=Jacob Pawson via City of Tucson:MAILTO:f34bb014-d616-4d3d-8041
 -920b7eb24a38.21@oneteam.tucsonaz.gov
SEQUENCE:1
SUMMARY:PSCD Open Enrollment Meeting -- In-Person
UID:f34bb014-d616-4d3d-8041-920b7eb24a38
X-ALT-DESC;FMTTYPE=text/html;FMTTYPE=text/html:4004 S Park Ave\, Bldg 2\, T
 ucson -- EOC Conference Room\n\n<hr/><div><p style='margin-right:0in\;marg
 in-left:0in\;font-size:16px\;font-family:"Aptos"\,sans-serif\;margin-top:0
 in\;margin-bottom:.25in\;font-size:11.0pt\;background:white\;' id="isPaste
 d"><span style="font-size:18px\;font-family:Montserrat\;color:#333333\;">J
 oin Linda Kile\, your City Benefits Administrator to <strong><span style="
 font-family:Montserrat\;">learn about your 2026-27</span></strong></span><
 span style='font-size:15px\;font-family:"Aptos"\,sans-serif\;color:#333333
 \;'> </span><strong><span style="font-size:18px\;font-family:Montserrat\;c
 olor:#333333\;">medical plan options.</span></strong><span style="font-siz
 e:18px\;font-family:Montserrat\;color:#333333\;"> </span></p><p><span styl
 e="font-family:Montserrat\;color:#333333\;">As part of our commitment to p
 rovide comprehensive benefits\, we will be holding a positive enrollment t
 his year. This means all <strong><span style="font-family:Montserrat\;">em
 ployees and retirees who would like to have medical coverage starting July
  1\, 2026</span></strong> <strong><span style="font-family:Montserrat\;">m
 ust actively enroll and elect medical</span></strong> coverage during the 
 May 4 – June 1 5:PM Arizona time open enrollment period.</span></p><p><str
 ong><span style="font-family:Montserrat\;color:#41A85F\;">This event is in
 -person at</span></strong><span style="font-family:Montserrat\;color:#3333
 33\;"> </span><strong><span style="font-family:Montserrat\;color:#41A85F\;
 ">the Tucson City Office</span></strong><span style="font-family:Montserra
 t\;color:#333333\;"> </span><strong><span style="font-family:Montserrat\;c
 olor:#41A85F\;">worksite location.</span></strong></p></div>\n\n
END:VEVENT
END:VCALENDAR
