BEGIN:VCALENDAR
VERSION:2.0
METHOD:REQUEST
PRODID:-//ddaysoftware//NONSGML DDay.iCal 1.0//EN
BEGIN:VTIMEZONE
TZID:US Mountain Standard Time
BEGIN:STANDARD
DTSTART;VALUE=DATE:19000101
TZNAME:US Mountain Standard Time
TZOFFSETFROM:-0700
TZOFFSETTO:-0700
END:STANDARD
END:VTIMEZONE
BEGIN:VEVENT
DESCRIPTION:Thomas O. Price Service Center\, 4004 South Park Ave\, Tucson\,
  AZ\, Amphitheater\n\nJoin Linda Kile\, your City Benefits Administrator t
 o learn about your 2026-27 medical plan options. \nAs part of our commitme
 nt to provide comprehensive benefits\, we will be holding a positive enrol
 lment this year. This means all employees and retirees who would like to h
 ave medical coverage starting July 1\, 2026 must actively enroll and elect
  medical coverage during the May 4 – June 1 5:PM Arizona time open enrollm
 ent period.\nThis event is in-person at the Thomas O. Price Service Center
  worksite location.\n\n
DTEND;TZID=US Mountain Standard Time:20260521T153000
DTSTAMP:20260409T194233Z
DTSTART;TZID=US Mountain Standard Time:20260521T133000
LAST-MODIFIED:20260409T194233Z
LOCATION:4004 South Park Ave\, Tucson\, AZ
ORGANIZER;CN=Jacob Pawson via City of Tucson:MAILTO:efa40e26-bdb5-4380-80b6
 -671456e30656.21@oneteam.tucsonaz.gov
SEQUENCE:0
SUMMARY:GSD Open Enrollment Meeting -- In-Person
UID:efa40e26-bdb5-4380-80b6-671456e30656
X-ALT-DESC;FMTTYPE=text/html;FMTTYPE=text/html:Thomas O. Price Service Cent
 er\, 4004 South Park Ave\, Tucson\, AZ\, Amphitheater\n\n<hr/><div><p styl
 e='margin-right:0in\;margin-left:0in\;font-size:16px\;font-family:"Aptos"\
 ,sans-serif\;margin-top:0in\;margin-bottom:.25in\;font-size:11.0pt\;backgr
 ound:white\;' id="isPasted"><span style="font-size:18px\;font-family:Monts
 errat\;color:#333333\;">Join Linda Kile\, your City Benefits Administrator
  to <strong><span style="font-family:Montserrat\;">learn about your 202</s
 pan></strong></span><strong><span style="font-size:18px\;font-family:Monts
 errat\;color:#333333\;">6</span></strong><strong><span style="font-size:18
 px\;font-family:Montserrat\;color:#333333\;">-</span></strong><strong><spa
 n style="font-size:18px\;font-family:Montserrat\;color:#333333\;">27</span
 ></strong> <strong><span style="font-size:18px\;font-family:Montserrat\;co
 lor:#333333\;">medical plan options.</span></strong><span style="font-size
 :18px\;font-family:Montserrat\;color:#333333\;"> </span></p><p unsafe.styl
 e='margin-right:0in\;margin-left:0in\;font-size:16px\;font-family:"Aptos"\
 ,sans-serif\;margin-top:0in\;margin-bottom:.25in\;font-size:11.0pt\;backgr
 ound:white\;text-align:start\;'><span style="font-family:Montserrat\;color
 :#333333\;">As part of our commitment to provide comprehensive benefits\, 
 we will be holding a positive enrollment this year. This means all <strong
 ><span style="font-family:Montserrat\;">employees and retirees who would l
 ike to have medical coverage starting July 1\, 20</span></strong></span><s
 trong><span style="font-family:Montserrat\;color:#333333\;">26</span></str
 ong> <strong><span style="font-family:Montserrat\;color:#333333\;">must ac
 tively enroll and elect medical</span></strong><span style="font-family:Mo
 ntserrat\;color:#333333\;"> coverage during the May 4 – June 1 5:PM Arizon
 a time open enrollment period.</span></p><p unsafe.style='margin-right:0in
 \;margin-left:0in\;font-size:16px\;font-family:"Aptos"\,sans-serif\;margin
 -top:0in\;margin-bottom:.25in\;font-size:11.0pt\;background:white\;text-al
 ign:start\;'><strong><span style="font-family:Montserrat\;color:#41A85F\;"
 >This event is in-person at</span></strong> <strong><span style="font-fami
 ly:Montserrat\;color:#41A85F\;">the</span></strong> <strong><span style="f
 ont-family:Montserrat\;color:#41A85F\;">Thomas O. Price Service Center</sp
 an></strong> <strong><span style="font-family:Montserrat\;color:#41A85F\;"
 >worksite location.</span></strong></p></div>\n\n
END:VEVENT
END:VCALENDAR
