BEGIN:VCALENDAR
VERSION:2.0
METHOD:REQUEST
PRODID:-//ddaysoftware//NONSGML DDay.iCal 1.0//EN
BEGIN:VTIMEZONE
TZID:US Mountain Standard Time
BEGIN:STANDARD
DTSTART;VALUE=DATE:19000101
TZNAME:US Mountain Standard Time
TZOFFSETFROM:-0700
TZOFFSETTO:-0700
END:STANDARD
END:VTIMEZONE
BEGIN:VEVENT
DESCRIPTION:Microsoft Teams Meeting - https://teams.microsoft.com/meet/2324
 9362773390?p=RkSkBXst8w2qOg7Vfa\n\nJoin Linda Kile\, your City Benefits Ad
 ministrator to learn about your 2026-27 medical plan options. As part of o
 ur commitment to provide comprehensive benefits\, we will be holding a pos
 itive enrollment this year. This means all employees and retirees who woul
 d like to have medical coverage starting July 1\, 2026 must actively enrol
 l and elect medical coverage during the May 4 – June 1 5:PM Arizona time o
 pen enrollment period.This event is online via Microsoft Teams.Microsoft T
 eams meeting Join: https://teams.microsoft.com/meet/23249362773390?p=RkSkB
 Xst8w2qOg7VfaMeeting ID: 232 493 627 733 90 Passcode: 9fj6co2A Dial in by 
 phone +1 213-293-2303\,\,160159072#Phone conference ID: 160 159 072# \n\n
DTEND;TZID=US Mountain Standard Time:20260520T160000
DTSTAMP:20260416T180031Z
DTSTART;TZID=US Mountain Standard Time:20260520T143000
LAST-MODIFIED:20260416T180031Z
LOCATION:https://teams.microsoft.com/meet/23249362773390?p=RkSkBXst8w2qOg7V
 fa
ORGANIZER;CN=Jacob Pawson via City of Tucson:MAILTO:ed48e3a4-25ca-4990-99af
 -10034c510b85.21@oneteam.tucsonaz.gov
SEQUENCE:0
SUMMARY:All Employees Open Enrollment Meeting -- Virtual
UID:ed48e3a4-25ca-4990-99af-10034c510b85
X-ALT-DESC;FMTTYPE=text/html;FMTTYPE=text/html:Microsoft Teams Meeting - ht
 tps://teams.microsoft.com/meet/23249362773390?p=RkSkBXst8w2qOg7Vfa\n\n<hr/
 ><div><p id="isPasted">Join Linda Kile\, your City Benefits Administrator 
 to <strong>learn about your 202</strong><strong>6</strong><strong>-</stron
 g><strong>27</strong> <strong>medical plan options.</strong> </p><p>As par
 t of our commitment to provide comprehensive benefits\, we will be holding
  a positive enrollment this year. This means all <strong>employees and ret
 irees who would like to have medical coverage starting July 1\, 20</strong
 ><strong>26</strong> <strong>must actively enroll and elect medical</stron
 g> coverage during the May 4 – June 1 5:PM Arizona time open enrollment pe
 riod.</p><p><strong>This event is </strong><strong>online via Microsoft Te
 ams.</strong></p><p><strong>Microsoft Teams meeting</strong> <br/><strong>
 Join:</strong><a href="https://teams.microsoft.com/meet/23249362773390?p=R
 kSkBXst8w2qOg7Vfa" title="Meeting join"></a> <a href="https://teams.micros
 oft.com/meet/23249362773390?p=RkSkBXst8w2qOg7Vfa" title="Meeting join">htt
 ps://teams.microsoft.com/meet/23249362773390?p=RkSkBXst8w2qOg7Vfa</a><br/>
 Meeting ID: 232 493 627 733 90 <br/>Passcode: 9fj6co2A </p><p><strong>Dial
  in by phone</strong> <br/><a href="tel:+12132932303\,\,160159072">+1 213-
 293-2303\,\,160159072#</a><br/>Phone conference ID: 160 159 072# </p></div
 >\n\n
END:VEVENT
END:VCALENDAR
