BEGIN:VCALENDAR
VERSION:2.0
METHOD:REQUEST
PRODID:-//ddaysoftware//NONSGML DDay.iCal 1.0//EN
BEGIN:VTIMEZONE
TZID:US Mountain Standard Time
BEGIN:STANDARD
DTSTART;VALUE=DATE:19000101
TZNAME:US Mountain Standard Time
TZOFFSETFROM:-0700
TZOFFSETTO:-0700
END:STANDARD
END:VTIMEZONE
BEGIN:VEVENT
DESCRIPTION:TPD HQ\, 270 S. Stone Ave\, Tucson\, AZ\, First Floor Conferenc
 e Room\n\nJoin Linda Kile\, your City Benefits Administrator to learn abou
 t your 2026-27 medical plan options. \nAs part of our commitment to provid
 e comprehensive benefits\, we will be holding a positive enrollment this y
 ear. This means all employees and retirees who would like to have medical 
 coverage starting July 1\, 2026 must actively enroll and elect medical cov
 erage during the May 4 – June 1 5:PM Arizona time open enrollment period.\
 nThis event is in-person at the Tucson Police Headquarters worksite locati
 on.\n\n
DTEND;TZID=US Mountain Standard Time:20260519T200000
DTSTAMP:20260409T193418Z
DTSTART;TZID=US Mountain Standard Time:20260519T180000
LAST-MODIFIED:20260409T193418Z
LOCATION:270 S. Stone Ave\, Tucson\, AZ
ORGANIZER;CN=Jacob Pawson via City of Tucson:MAILTO:e1a8dd48-00f4-439f-800a
 -3600af88ed39.21@oneteam.tucsonaz.gov
SEQUENCE:0
SUMMARY:TPD Open Enrollment Meeting -- In-Person
UID:e1a8dd48-00f4-439f-800a-3600af88ed39
X-ALT-DESC;FMTTYPE=text/html;FMTTYPE=text/html:TPD HQ\, 270 S. Stone Ave\, 
 Tucson\, AZ\, First Floor Conference Room\n\n<hr/><div><p style='margin-ri
 ght:0in\;margin-left:0in\;font-size:16px\;font-family:"Aptos"\,sans-serif\
 ;margin-top:0in\;margin-bottom:.25in\;font-size:11.0pt\;background:white\;
 ' id="isPasted"><span style="font-size:18px\;font-family:Montserrat\;color
 :#333333\;">Join Linda Kile\, your City Benefits Administrator to <strong>
 <span style="font-family:Montserrat\;">learn about your 202</span></strong
 ></span><strong><span style="font-size:18px\;font-family:Montserrat\;color
 :#333333\;">6</span></strong><strong><span style="font-size:18px\;font-fam
 ily:Montserrat\;color:#333333\;">-</span></strong><strong><span style="fon
 t-size:18px\;font-family:Montserrat\;color:#333333\;">27</span></strong> <
 strong><span style="font-size:18px\;font-family:Montserrat\;color:#333333\
 ;">medical plan options.</span></strong><span style="font-size:18px\;font-
 family:Montserrat\;color:#333333\;"> </span></p><p unsafe.style='margin-ri
 ght:0in\;margin-left:0in\;font-size:16px\;font-family:"Aptos"\,sans-serif\
 ;margin-top:0in\;margin-bottom:.25in\;font-size:11.0pt\;background:white\;
 text-align:start\;'><span style="font-family:Montserrat\;color:#333333\;">
 As part of our commitment to provide comprehensive benefits\, we will be h
 olding a positive enrollment this year. This means all <strong><span style
 ="font-family:Montserrat\;">employees and retirees who would like to have 
 medical coverage starting July 1\, 20</span></strong></span><strong><span 
 style="font-family:Montserrat\;color:#333333\;">26</span></strong> <strong
 ><span style="font-family:Montserrat\;color:#333333\;">must actively enrol
 l and elect medical</span></strong><span style="font-family:Montserrat\;co
 lor:#333333\;"> coverage during the May 4 – June 1 5:PM Arizona time open 
 enrollment period.</span></p><p unsafe.style='margin-right:0in\;margin-lef
 t:0in\;font-size:16px\;font-family:"Aptos"\,sans-serif\;margin-top:0in\;ma
 rgin-bottom:.25in\;font-size:11.0pt\;background:white\;text-align:start\;'
 ><strong><span style="font-family:Montserrat\;color:#41A85F\;">This event 
 is in-person at</span></strong> <strong><span style="font-family:Montserra
 t\;color:#41A85F\;">the</span></strong> <strong><span style="font-family:M
 ontserrat\;color:#41A85F\;">Tucson Police Headquarters</span></strong> <st
 rong><span style="font-family:Montserrat\;color:#41A85F\;">worksite locati
 on.</span></strong></p></div>\n\n
END:VEVENT
END:VCALENDAR
