BEGIN:VCALENDAR
VERSION:2.0
METHOD:REQUEST
PRODID:-//ddaysoftware//NONSGML DDay.iCal 1.0//EN
BEGIN:VTIMEZONE
TZID:US Mountain Standard Time
BEGIN:STANDARD
DTSTART;VALUE=DATE:19000101
TZNAME:US Mountain Standard Time
TZOFFSETFROM:-0700
TZOFFSETTO:-0700
END:STANDARD
END:VTIMEZONE
BEGIN:VEVENT
DESCRIPTION:El Rio Neighborhood Center\, 1390 W Speedway Blvd\, Tucson\, AZ
   85745\n\nThis event is in-person at the El Rio Neighborhood Center works
 ite location.\n\n
DTEND;TZID=US Mountain Standard Time:20260512T170000
DTSTAMP:20260409T201124Z
DTSTART;TZID=US Mountain Standard Time:20260512T130000
LAST-MODIFIED:20260409T201124Z
LOCATION:El Rio Neighborhood Center (1390 W Speedway Blvd\, Tucson\, AZ  85
 745)
ORGANIZER;CN=Jacob Pawson via City of Tucson:MAILTO:d5305df2-c52e-4f12-a654
 -302cc5b879a9.21@oneteam.tucsonaz.gov
SEQUENCE:0
SUMMARY:Benefits & Wellness Fair (Day 1 of 2)
UID:d5305df2-c52e-4f12-a654-302cc5b879a9
X-ALT-DESC;FMTTYPE=text/html;FMTTYPE=text/html:El Rio Neighborhood Center\,
  1390 W Speedway Blvd\, Tucson\, AZ  85745\n\n<hr/><div><p style='margin-r
 ight:0in\;margin-left:0in\;font-size:16px\;font-family:"Aptos"\,sans-serif
 \;margin-top:0in\;margin-bottom:.25in\;font-size:11.0pt\;background:white\
 ;' id="isPasted"><strong><span style="font-family:Montserrat\;color:#41A85
 F\;">This event is in-person at</span></strong> <strong><span style="font-
 family:Montserrat\;color:#41A85F\;">the</span></strong> <strong><span styl
 e="font-family:Montserrat\;color:#41A85F\;">El Rio Neighborhood Center</sp
 an></strong> <strong><span style="font-family:Montserrat\;color:#41A85F\;"
 >worksite location.</span></strong></p></div>\n\n
END:VEVENT
END:VCALENDAR
