BEGIN:VCALENDAR
VERSION:2.0
METHOD:REQUEST
PRODID:-//ddaysoftware//NONSGML DDay.iCal 1.0//EN
BEGIN:VTIMEZONE
TZID:US Mountain Standard Time
BEGIN:STANDARD
DTSTART;VALUE=DATE:19000101
TZNAME:US Mountain Standard Time
TZOFFSETFROM:-0700
TZOFFSETTO:-0700
END:STANDARD
END:VTIMEZONE
BEGIN:VEVENT
DESCRIPTION:Retiree Virtual Meeting via Microsoft Teams\n\nJoin Linda Kile\
 , your City Benefits Administrator to learn about your 2026-27 medical pla
 n options. As part of our commitment to provide comprehensive benefits\, w
 e will be holding a positive enrollment this year. This means all employee
 s and retirees who would like to have medical coverage starting July 1\, 2
 026 must actively enroll and elect medical coverage during the May 4 – Jun
 e 1 5:PM Arizona time open enrollment period.This event is virtual via Mic
 rosoft Teams.\nMicrosoft Teams meeting \nJoin: https://teams.microsoft.com
 /meet/22713560325050?p=kwfaNGqOMluNTHPlD0 \nMeeting ID: 227 135 603 250 50
  Passcode: 4wP9Jy3q Dial in by phone +1 213-293-2303\,\,723889057#Phone co
 nference ID: 723 889 057# \n\n
DTEND;TZID=US Mountain Standard Time:20260520T140000
DTSTAMP:20260409T194027Z
DTSTART;TZID=US Mountain Standard Time:20260520T123000
LAST-MODIFIED:20260409T194027Z
LOCATION:https://teams.microsoft.com/meet/22713560325050?p=kwfaNGqOMluNTHPl
 D0
ORGANIZER;CN=Jacob Pawson via City of Tucson:MAILTO:ea57f148-ce98-44c0-a590
 -7da46cf73e0f.21@oneteam.tucsonaz.gov
SEQUENCE:0
SUMMARY:Retiree Open Enrollment Meeting -- Virtual Only
UID:d449bef4-d60e-46aa-87ea-d08506f5b4a1
X-ALT-DESC;FMTTYPE=text/html;FMTTYPE=text/html;FMTTYPE=text/html:Retiree Vi
 rtual Meeting via Microsoft Teams\n\n<hr/><div><p style='margin-right:0in\
 ;margin-left:0in\;font-size:16px\;font-family:"Aptos"\,sans-serif\;margin-
 top:0in\;margin-bottom:.25in\;font-size:11.0pt\;background:white\;' id="is
 Pasted"><span style="font-size:18px\;font-family:Montserrat\;color:#333333
 \;">Join Linda Kile\, your City Benefits Administrator to <strong><span st
 yle="font-family:Montserrat\;">learn about your 202</span></strong></span>
 <strong><span style="font-size:18px\;font-family:Montserrat\;color:#333333
 \;">6</span></strong><strong><span style="font-size:18px\;font-family:Mont
 serrat\;color:#333333\;">-</span></strong><strong><span style="font-size:1
 8px\;font-family:Montserrat\;color:#333333\;">27</span></strong> <strong><
 span style="font-size:18px\;font-family:Montserrat\;color:#333333\;">medic
 al plan options.</span></strong><span style="font-size:18px\;font-family:M
 ontserrat\;color:#333333\;"> </span></p><p><span style="font-family:Montse
 rrat\;color:#333333\;">As part of our commitment to provide comprehensive 
 benefits\, we will be holding a positive enrollment this year. This means 
 all <strong><span style="font-family:Montserrat\;">employees and retirees 
 who would like to have medical coverage starting July 1\, 20</span></stron
 g></span><strong><span style="font-family:Montserrat\;color:#333333\;">26<
 /span></strong> <strong><span style="font-family:Montserrat\;color:#333333
 \;">must actively enroll and elect medical</span></strong><span style="fon
 t-family:Montserrat\;color:#333333\;"> coverage during the May 4 – June 1 
 5:PM Arizona time open enrollment period.</span></p><p><strong><span style
 ="font-family:Montserrat\;color:#41A85F\;">This event is virtual via Micro
 soft Teams.</span></strong></p><p style='margin:0in\;font-size:16px\;font-
 family:"Aptos"\,sans-serif\;' id="isPasted"><strong><span style='font-size
 :20px\;font-family:"Segoe UI"\,sans-serif\;color:#242424\;'>Microsoft Team
 s meeting</span></strong><span style='font-family:"Segoe UI"\,sans-serif\;
 color:#242424\;'> </span></p><p style='margin:0in\;font-size:16px\;font-fa
 mily:"Aptos"\,sans-serif\;'><strong><span style='font-size:20px\;font-fami
 ly:"Segoe UI"\,sans-serif\;color:#242424\;'>Join:</span></strong> <span st
 yle='font-family:"Segoe UI"\,sans-serif\;color:#242424\;'><a href="https:/
 /teams.microsoft.com/meet/22713560325050?p=kwfaNGqOMluNTHPlD0" title="Meet
 ing join"><span style="font-size:20px\;color:#5B5FC7\;">https://teams.micr
 osoft.com/meet/22713560325050?p=kwfaNGqOMluNTHPlD0</span></a> </span></p><
 p id="isPasted">Meeting ID: 227 135 603 250 50 <br/>Passcode: 4wP9Jy3q </p
 ><p><strong>Dial in by phone</strong> <br/><a href="tel:+12132932303\,\,72
 3889057">+1 213-293-2303\,\,723889057#</a><br/>Phone conference ID: 723 88
 9 057# </p></div>\n\n
END:VEVENT
END:VCALENDAR
