BEGIN:VCALENDAR
VERSION:2.0
METHOD:REQUEST
PRODID:-//ddaysoftware//NONSGML DDay.iCal 1.0//EN
BEGIN:VTIMEZONE
TZID:US Mountain Standard Time
BEGIN:STANDARD
DTSTART;VALUE=DATE:19000101
TZNAME:US Mountain Standard Time
TZOFFSETFROM:-0700
TZOFFSETTO:-0700
END:STANDARD
END:VTIMEZONE
BEGIN:VEVENT
DESCRIPTION:Tucson Water Eastside\, 10445 E. Golf Links Rd\, Large Conferen
 ce Room\n\nJoin Linda Kile\, your City Benefits Administrator to learn abo
 ut your 2026-27 medical plan options. As part of our commitment to provide
  comprehensive benefits\, we will be holding a positive enrollment this ye
 ar. This means all employees and retirees who would like to have medical c
 overage starting July 1\, 2026 must actively enroll and elect medical cove
 rage during the May 4 – June 1 5:PM Arizona time open enrollment period.Th
 is event is in-person at the Tucson Water Eastside worksite location.\n\n
DTEND;TZID=US Mountain Standard Time:20260507T080000
DTSTAMP:20260409T195057Z
DTSTART;TZID=US Mountain Standard Time:20260507T060000
LAST-MODIFIED:20260409T195057Z
LOCATION:10445 E. Golf Links Rd\, Tucson\, AZ
ORGANIZER;CN=Jacob Pawson via City of Tucson:MAILTO:98ab322d-ab5b-4e7a-bf52
 -43bc7b27766c.21@oneteam.tucsonaz.gov
SEQUENCE:0
SUMMARY:Tucson Water Eastside Open Enrollment Meeting -- In-Person
UID:d3485cea-a440-4cf1-9aab-8cdfd6907475
X-ALT-DESC;FMTTYPE=text/html;FMTTYPE=text/html;FMTTYPE=text/html:Tucson Wat
 er Eastside\, 10445 E. Golf Links Rd\, Large Conference Room\n\n<hr/><div>
 <p style='margin-right:0in\;margin-left:0in\;font-size:16px\;font-family:"
 Aptos"\,sans-serif\;margin-top:0in\;margin-bottom:.25in\;font-size:11.0pt\
 ;background:white\;' id="isPasted"><span style="font-size:18px\;font-famil
 y:Montserrat\;color:#333333\;">Join Linda Kile\, your City Benefits Admini
 strator to <strong><span style="font-family:Montserrat\;">learn about your
  202</span></strong></span><strong><span style="font-size:18px\;font-famil
 y:Montserrat\;color:#333333\;">6</span></strong><strong><span style="font-
 size:18px\;font-family:Montserrat\;color:#333333\;">-</span></strong><stro
 ng><span style="font-size:18px\;font-family:Montserrat\;color:#333333\;">2
 7</span></strong> <strong><span style="font-size:18px\;font-family:Montser
 rat\;color:#333333\;">medical plan options.</span></strong><span style="fo
 nt-size:18px\;font-family:Montserrat\;color:#333333\;"> </span></p><p><spa
 n style="font-family:Montserrat\;color:#333333\;">As part of our commitmen
 t to provide comprehensive benefits\, we will be holding a positive enroll
 ment this year. This means all <strong><span style="font-family:Montserrat
 \;">employees and retirees who would like to have medical coverage startin
 g July 1\, 20</span></strong></span><strong><span style="font-family:Monts
 errat\;color:#333333\;">26</span></strong> <strong><span style="font-famil
 y:Montserrat\;color:#333333\;">must actively enroll and elect medical</spa
 n></strong><span style="font-family:Montserrat\;color:#333333\;"> coverage
  during the May 4 – June 1 5:PM Arizona time open enrollment period.</span
 ></p><p><strong><span style="font-family:Montserrat\;color:#41A85F\;">This
  event is in-person at</span></strong> <strong><span style="font-family:Mo
 ntserrat\;color:#41A85F\;">the Tucson Water Eastside</span></strong> <stro
 ng><span style="font-family:Montserrat\;color:#41A85F\;">worksite location
 .</span></strong></p></div>\n\n
END:VEVENT
END:VCALENDAR
