BEGIN:VCALENDAR
VERSION:2.0
METHOD:REQUEST
PRODID:-//ddaysoftware//NONSGML DDay.iCal 1.0//EN
BEGIN:VTIMEZONE
TZID:US Mountain Standard Time
BEGIN:STANDARD
DTSTART;VALUE=DATE:19000101
TZNAME:US Mountain Standard Time
TZOFFSETFROM:-0700
TZOFFSETTO:-0700
END:STANDARD
END:VTIMEZONE
BEGIN:VEVENT
DESCRIPTION:Microsoft Teams Meeting - https://teams.microsoft.com/meet/2335
 27004545663?p=F2O9k6uRI1Hv0lwfvX\n\nJoin Linda Kile\, your City Benefits A
 dministrator to learn about your 2026-27 medical plan options. As part of 
 our commitment to provide comprehensive benefits\, we will be holding a po
 sitive enrollment this year. This means all employees and retirees who wou
 ld like to have medical coverage starting July 1\, 2026 must actively enro
 ll and elect medical coverage during the May 4 – June 1 5:PM Arizona time 
 open enrollment period.This event is online via Microsoft Teams.Microsoft 
 Teams meeting Join: https://teams.microsoft.com/meet/233527004545663?p=F2O
 9k6uRI1Hv0lwfvXMeeting ID: 233 527 004 545 663 Passcode: bE2Gj9HM Dial in 
 by phone +1 213-293-2303\,\,506948209#Phone conference ID: 506 948 209# \n
 \n
DTEND;TZID=US Mountain Standard Time:20260508T163000
DTSTAMP:20260415T235349Z
DTSTART;TZID=US Mountain Standard Time:20260508T150000
LAST-MODIFIED:20260415T235349Z
LOCATION:https://teams.microsoft.com/meet/233527004545663?p=F2O9k6uRI1Hv0lw
 fvX
ORGANIZER;CN=Jacob Pawson via City of Tucson:MAILTO:a7db4012-f5be-4c2f-835f
 -0a08411349e0.21@oneteam.tucsonaz.gov
SEQUENCE:0
SUMMARY:All Employees Open Enrollment Meeting -- Virtual
UID:a7db4012-f5be-4c2f-835f-0a08411349e0
X-ALT-DESC;FMTTYPE=text/html;FMTTYPE=text/html:Microsoft Teams Meeting - ht
 tps://teams.microsoft.com/meet/233527004545663?p=F2O9k6uRI1Hv0lwfvX\n\n<hr
 /><div><p id="isPasted">Join Linda Kile\, your City Benefits Administrator
  to <strong>learn about your 202</strong><strong>6</strong><strong>-</stro
 ng><strong>27</strong> <strong>medical plan options.</strong> </p><p>As pa
 rt of our commitment to provide comprehensive benefits\, we will be holdin
 g a positive enrollment this year. This means all <strong>employees and re
 tirees who would like to have medical coverage starting July 1\, 20</stron
 g><strong>26</strong> <strong>must actively enroll and elect medical</stro
 ng> coverage during the May 4 – June 1 5:PM Arizona time open enrollment p
 eriod.</p><p><strong>This event is </strong><strong>online via Microsoft T
 eams.</strong></p><p><strong>Microsoft Teams meeting</strong> <br/><strong
 >Join: </strong><a href="https://teams.microsoft.com/meet/233527004545663?
 p=F2O9k6uRI1Hv0lwfvX" title="Meeting join">https://teams.microsoft.com/mee
 t/233527004545663?p=F2O9k6uRI1Hv0lwfvX</a><br/>Meeting ID: 233 527 004 545
  663 <br/>Passcode: bE2Gj9HM </p><p><strong>Dial in by phone</strong> <br/
 ><a href="tel:+12132932303\,\,506948209">+1 213-293-2303\,\,506948209#</a>
 <br/>Phone conference ID: 506 948 209# </p></div>\n\n
END:VEVENT
END:VCALENDAR
