BEGIN:VCALENDAR
VERSION:2.0
METHOD:REQUEST
PRODID:-//ddaysoftware//NONSGML DDay.iCal 1.0//EN
BEGIN:VTIMEZONE
TZID:US Mountain Standard Time
BEGIN:STANDARD
DTSTART;VALUE=DATE:19000101
TZNAME:US Mountain Standard Time
TZOFFSETFROM:-0700
TZOFFSETTO:-0700
END:STANDARD
END:VTIMEZONE
BEGIN:VEVENT
DESCRIPTION:Tucson Water\, 501 W 18th St\, Tucson\, AZ\, Conference Room\n\
 nJoin Linda Kile\, your City Benefits Administrator to learn about your 20
 26-27 medical plan options. \nAs part of our commitment to provide compreh
 ensive benefits\, we will be holding a positive enrollment this year. This
  means all employees and retirees who would like to have medical coverage 
 starting July 1\, 2026 must actively enroll and elect medical coverage dur
 ing the May 4 – June 1 5:PM Arizona time open enrollment period.\nThis eve
 nt is in-person at the Tucson Water worksite location at 501 W 18th St.\n\
 n
DTEND;TZID=US Mountain Standard Time:20260506T080000
DTSTAMP:20260409T194821Z
DTSTART;TZID=US Mountain Standard Time:20260506T060000
LAST-MODIFIED:20260409T194821Z
LOCATION:501 W 18th St\, Tucson\, AZ
ORGANIZER;CN=Jacob Pawson via City of Tucson:MAILTO:a3d0603b-6ad6-42dd-bea2
 -62a79be91cd9.21@oneteam.tucsonaz.gov
SEQUENCE:0
SUMMARY:Tucson Water/Westside Metering Open Enrollment Meeting -- In-Person
UID:a3d0603b-6ad6-42dd-bea2-62a79be91cd9
X-ALT-DESC;FMTTYPE=text/html;FMTTYPE=text/html:Tucson Water\, 501 W 18th St
 \, Tucson\, AZ\, Conference Room\n\n<hr/><div><p style='margin-right:0in\;
 margin-left:0in\;font-size:16px\;font-family:"Aptos"\,sans-serif\;margin-t
 op:0in\;margin-bottom:.25in\;font-size:11.0pt\;background:white\;' id="isP
 asted"><span style="font-size:18px\;font-family:Montserrat\;color:#333333\
 ;">Join Linda Kile\, your City Benefits Administrator to <strong><span sty
 le="font-family:Montserrat\;">learn about your 202</span></strong></span><
 strong><span style="font-size:18px\;font-family:Montserrat\;color:#333333\
 ;">6</span></strong><strong><span style="font-size:18px\;font-family:Monts
 errat\;color:#333333\;">-</span></strong><strong><span style="font-size:18
 px\;font-family:Montserrat\;color:#333333\;">27</span></strong> <strong><s
 pan style="font-size:18px\;font-family:Montserrat\;color:#333333\;">medica
 l plan options.</span></strong><span style="font-size:18px\;font-family:Mo
 ntserrat\;color:#333333\;"> </span></p><p unsafe.style='margin-right:0in\;
 margin-left:0in\;font-size:16px\;font-family:"Aptos"\,sans-serif\;margin-t
 op:0in\;margin-bottom:.25in\;font-size:11.0pt\;background:white\;text-alig
 n:start\;'><span style="font-family:Montserrat\;color:#333333\;">As part o
 f our commitment to provide comprehensive benefits\, we will be holding a 
 positive enrollment this year. This means all <strong><span style="font-fa
 mily:Montserrat\;">employees and retirees who would like to have medical c
 overage starting July 1\, 20</span></strong></span><strong><span style="fo
 nt-family:Montserrat\;color:#333333\;">26</span></strong> <strong><span st
 yle="font-family:Montserrat\;color:#333333\;">must actively enroll and ele
 ct medical</span></strong><span style="font-family:Montserrat\;color:#3333
 33\;"> coverage during the May 4 – June 1 5:PM Arizona time open enrollmen
 t period.</span></p><p unsafe.style='margin-right:0in\;margin-left:0in\;fo
 nt-size:16px\;font-family:"Aptos"\,sans-serif\;margin-top:0in\;margin-bott
 om:.25in\;font-size:11.0pt\;background:white\;text-align:start\;'><strong>
 <span style="font-family:Montserrat\;color:#41A85F\;">This event is in-per
 son at</span></strong> <strong><span style="font-family:Montserrat\;color:
 #41A85F\;">the </span></strong><strong><span style="font-family:Montserrat
 \;color:#41A85F\;">Tucson Water</span></strong> <strong><span style="font-
 family:Montserrat\;color:#41A85F\;">worksite location at<strong id="isPast
 ed"> 501 W 18th St</strong>.</span></strong></p></div>\n\n
END:VEVENT
END:VCALENDAR
