BEGIN:VCALENDAR
VERSION:2.0
METHOD:REQUEST
PRODID:-//ddaysoftware//NONSGML DDay.iCal 1.0//EN
BEGIN:VTIMEZONE
TZID:US Mountain Standard Time
BEGIN:STANDARD
DTSTART;VALUE=DATE:19000101
TZNAME:US Mountain Standard Time
TZOFFSETFROM:-0700
TZOFFSETTO:-0700
END:STANDARD
END:VTIMEZONE
BEGIN:VEVENT
DESCRIPTION:Tucson City Court\, 103 E Alameda St\, Tucson\, AZ\n\nJoin Lind
 a Kile\, your City Benefits Administrator to learn about your 2026-27 medi
 cal plan options. \nAs part of our commitment to provide comprehensive ben
 efits\, we will be holding a positive enrollment this year. This means all
  employees and retirees who would like to have medical coverage starting J
 uly 1\, 2026 must actively enroll and elect medical coverage during the Ma
 y 4 – June 1 5:PM Arizona time open enrollment period.\nThis event is in-p
 erson at the Tucson City Court worksite location.\n\n
DTEND;TZID=US Mountain Standard Time:20260513T163000
DTSTAMP:20260409T191453Z
DTSTART;TZID=US Mountain Standard Time:20260513T143000
LAST-MODIFIED:20260409T191453Z
LOCATION:103 E Alameda St\, Tucson\, AZ
ORGANIZER;CN=Jacob Pawson via City of Tucson:MAILTO:97bd1360-0a4b-47f4-8918
 -b206b28bdcad.21@oneteam.tucsonaz.gov
SEQUENCE:0
SUMMARY:Courts Open Enrollment Meeting -- In-Person
UID:97bd1360-0a4b-47f4-8918-b206b28bdcad
X-ALT-DESC;FMTTYPE=text/html;FMTTYPE=text/html:Tucson City Court\, 103 E Al
 ameda St\, Tucson\, AZ\n\n<hr/><div><p style='margin-right:0in\;margin-lef
 t:0in\;font-size:16px\;font-family:"Aptos"\,sans-serif\;margin-top:0in\;ma
 rgin-bottom:.25in\;font-size:11.0pt\;background:white\;' id="isPasted"><sp
 an style="font-size:18px\;font-family:Montserrat\;color:#333333\;">Join Li
 nda Kile\, your City Benefits Administrator to <strong><span style="font-f
 amily:Montserrat\;">learn about your 202</span></strong></span><strong><sp
 an style="font-size:18px\;font-family:Montserrat\;color:#333333\;">6</span
 ></strong><strong><span style="font-size:18px\;font-family:Montserrat\;col
 or:#333333\;">-</span></strong><strong><span style="font-size:18px\;font-f
 amily:Montserrat\;color:#333333\;">27</span></strong> <strong><span style=
 "font-size:18px\;font-family:Montserrat\;color:#333333\;">medical plan opt
 ions.</span></strong><span style="font-size:18px\;font-family:Montserrat\;
 color:#333333\;"> </span></p><p unsafe.style='margin-right:0in\;margin-lef
 t:0in\;font-size:16px\;font-family:"Aptos"\,sans-serif\;margin-top:0in\;ma
 rgin-bottom:.25in\;font-size:11.0pt\;background:white\;text-align:start\;'
 ><span style="font-family:Montserrat\;color:#333333\;">As part of our comm
 itment to provide comprehensive benefits\, we will be holding a positive e
 nrollment this year. This means all <strong><span style="font-family:Monts
 errat\;">employees and retirees who would like to have medical coverage st
 arting July 1\, 20</span></strong></span><strong><span style="font-family:
 Montserrat\;color:#333333\;">26</span></strong> <strong><span style="font-
 family:Montserrat\;color:#333333\;">must actively enroll and elect medical
 </span></strong><span style="font-family:Montserrat\;color:#333333\;"> cov
 erage during the May 4 – June 1 5:PM Arizona time open enrollment period.<
 /span></p><p unsafe.style='margin-right:0in\;margin-left:0in\;font-size:16
 px\;font-family:"Aptos"\,sans-serif\;margin-top:0in\;margin-bottom:.25in\;
 font-size:11.0pt\;background:white\;text-align:start\;'><strong><span styl
 e="font-family:Montserrat\;color:#41A85F\;">This event is in-person at</sp
 an></strong> <strong><span style="font-family:Montserrat\;color:#41A85F\;"
 >the</span></strong><strong><span style="font-family:Montserrat\;color:#41
 A85F\;"> Tucson City Court </span></strong><strong><span style="font-famil
 y:Montserrat\;color:#41A85F\;">worksite location.</span></strong></p></div
 >\n\n
END:VEVENT
END:VCALENDAR
