BEGIN:VCALENDAR
VERSION:2.0
METHOD:REQUEST
PRODID:-//ddaysoftware//NONSGML DDay.iCal 1.0//EN
BEGIN:VTIMEZONE
TZID:US Mountain Standard Time
BEGIN:STANDARD
DTSTART;VALUE=DATE:19000101
TZNAME:US Mountain Standard Time
TZOFFSETFROM:-0700
TZOFFSETTO:-0700
END:STANDARD
END:VTIMEZONE
BEGIN:VEVENT
DESCRIPTION:Tucson Water La Entrada Facility\, 310 W Alameda St\, Tucson\, 
 AZ\, Large Conference Room\n\nJoin Linda Kile\, your City Benefits Adminis
 trator to learn about your 2026-27 medical plan options. As part of our co
 mmitment to provide comprehensive benefits\, we will be holding a positive
  enrollment this year. This means all employees and retirees who would lik
 e to have medical coverage starting July 1\, 2026 must actively enroll and
  elect medical coverage during the May 4 – June 1 5:PM Arizona time open e
 nrollment period.This event is in-person at the Tucson Water La Entrada Fa
 cility worksite location.\n\n
DTEND;TZID=US Mountain Standard Time:20260505T150000
DTSTAMP:20260409T174505Z
DTSTART;TZID=US Mountain Standard Time:20260505T130000
LAST-MODIFIED:20260409T174505Z
LOCATION:310 W Alameda St\, Tucson\, AZ
ORGANIZER;CN=Jacob Pawson via City of Tucson:MAILTO:939e43a7-97d5-4592-b043
 -59c407fe1ce1.21@oneteam.tucsonaz.gov
SEQUENCE:1
SUMMARY:Tucson Water Open Enrollment Meeting -- In-Person
UID:939e43a7-97d5-4592-b043-59c407fe1ce1
X-ALT-DESC;FMTTYPE=text/html;FMTTYPE=text/html:Tucson Water La Entrada Faci
 lity\, 310 W Alameda St\, Tucson\, AZ\, Large Conference Room\n\n<hr/><div
 ><p style='margin-right:0in\;margin-left:0in\;font-size:16px\;font-family:
 "Aptos"\,sans-serif\;margin-top:0in\;margin-bottom:.25in\;font-size:11.0pt
 \;background:white\;' id="isPasted"><span style="font-size:18px\;font-fami
 ly:Montserrat\;color:#333333\;">Join Linda Kile\, your City Benefits Admin
 istrator to <strong><span style="font-family:Montserrat\;">learn about you
 r 202</span></strong></span><strong><span style="font-size:18px\;font-fami
 ly:Montserrat\;color:#333333\;">6</span></strong><strong><span style="font
 -size:18px\;font-family:Montserrat\;color:#333333\;">-</span></strong><str
 ong><span style="font-size:18px\;font-family:Montserrat\;color:#333333\;">
 27</span></strong> <strong><span style="font-size:18px\;font-family:Montse
 rrat\;color:#333333\;">medical plan options.</span></strong><span style="f
 ont-size:18px\;font-family:Montserrat\;color:#333333\;"> </span></p><p><sp
 an style="font-family:Montserrat\;color:#333333\;">As part of our commitme
 nt to provide comprehensive benefits\, we will be holding a positive enrol
 lment this year. This means all <strong><span style="font-family:Montserra
 t\;">employees and retirees who would like to have medical coverage starti
 ng July 1\, 20</span></strong></span><strong><span style="font-family:Mont
 serrat\;color:#333333\;">26</span></strong> <strong><span style="font-fami
 ly:Montserrat\;color:#333333\;">must actively enroll and elect medical</sp
 an></strong><span style="font-family:Montserrat\;color:#333333\;"> coverag
 e during the May 4 – June 1 5:PM Arizona time open enrollment period.</spa
 n></p><p><strong><span style="font-family:Montserrat\;color:#41A85F\;">Thi
 s event is in-person at</span></strong> <strong><span style="font-family:M
 ontserrat\;color:#41A85F\;">the</span></strong> <strong><span style="font-
 family:Montserrat\;color:#41A85F\;">Tucson Water La Entrada Facility</span
 ></strong> <strong><span style="font-family:Montserrat\;color:#41A85F\;">w
 orksite location.</span></strong></p></div>\n\n
END:VEVENT
END:VCALENDAR
