BEGIN:VCALENDAR
VERSION:2.0
METHOD:REQUEST
PRODID:-//ddaysoftware//NONSGML DDay.iCal 1.0//EN
BEGIN:VTIMEZONE
TZID:US Mountain Standard Time
BEGIN:STANDARD
DTSTART;VALUE=DATE:19000101
TZNAME:US Mountain Standard Time
TZOFFSETFROM:-0700
TZOFFSETTO:-0700
END:STANDARD
END:VTIMEZONE
BEGIN:VEVENT
DESCRIPTION:320 N Commerce Park Loop\, Tucson\, AZ\, Sentinel Building\n\nJ
 oin Linda Kile\, your City Benefits Administrator to learn about your 2026
 -27 medical plan options. \nAs part of our commitment to provide comprehen
 sive benefits\, we will be holding a positive enrollment this year. This m
 eans all employees and retirees who would like to have medical coverage st
 arting July 1\, 2026 must actively enroll and elect medical coverage durin
 g the May 4 – June 1 5:PM Arizona time open enrollment period.\nThis event
  is in-person at the Sentinel Building worksite location.\n\n
DTEND;TZID=US Mountain Standard Time:20260514T140000
DTSTAMP:20260409T200802Z
DTSTART;TZID=US Mountain Standard Time:20260514T120000
LAST-MODIFIED:20260409T200802Z
LOCATION:320 N Commerce Park Loop\, Tucson\, AZ
ORGANIZER;CN=Jacob Pawson via City of Tucson:MAILTO:8a17f4a0-0a03-4b4e-a8ea
 -ea2200078bd2.21@oneteam.tucsonaz.gov
SEQUENCE:0
SUMMARY:HCD Open Enrollment Meeting -- In-Person
UID:8a17f4a0-0a03-4b4e-a8ea-ea2200078bd2
X-ALT-DESC;FMTTYPE=text/html;FMTTYPE=text/html:320 N Commerce Park Loop\, T
 ucson\, AZ\, Sentinel Building\n\n<hr/><div><p style='margin-right:0in\;ma
 rgin-left:0in\;font-size:16px\;font-family:"Aptos"\,sans-serif\;margin-top
 :0in\;margin-bottom:.25in\;font-size:11.0pt\;background:white\;' id="isPas
 ted"><span style="font-size:18px\;font-family:Montserrat\;color:#333333\;"
 >Join Linda Kile\, your City Benefits Administrator to <strong><span style
 ="font-family:Montserrat\;">learn about your 202</span></strong></span><st
 rong><span style="font-size:18px\;font-family:Montserrat\;color:#333333\;"
 >6</span></strong><strong><span style="font-size:18px\;font-family:Montser
 rat\;color:#333333\;">-</span></strong><strong><span style="font-size:18px
 \;font-family:Montserrat\;color:#333333\;">27</span></strong> <strong><spa
 n style="font-size:18px\;font-family:Montserrat\;color:#333333\;">medical 
 plan options.</span></strong><span style="font-size:18px\;font-family:Mont
 serrat\;color:#333333\;"> </span></p><p unsafe.style='margin-right:0in\;ma
 rgin-left:0in\;font-size:16px\;font-family:"Aptos"\,sans-serif\;margin-top
 :0in\;margin-bottom:.25in\;font-size:11.0pt\;background:white\;text-align:
 start\;'><span style="font-family:Montserrat\;color:#333333\;">As part of 
 our commitment to provide comprehensive benefits\, we will be holding a po
 sitive enrollment this year. This means all <strong><span style="font-fami
 ly:Montserrat\;">employees and retirees who would like to have medical cov
 erage starting July 1\, 20</span></strong></span><strong><span style="font
 -family:Montserrat\;color:#333333\;">26</span></strong> <strong><span styl
 e="font-family:Montserrat\;color:#333333\;">must actively enroll and elect
  medical</span></strong><span style="font-family:Montserrat\;color:#333333
 \;"> coverage during the May 4 – June 1 5:PM Arizona time open enrollment 
 period.</span></p><p unsafe.style='margin-right:0in\;margin-left:0in\;font
 -size:16px\;font-family:"Aptos"\,sans-serif\;margin-top:0in\;margin-bottom
 :.25in\;font-size:11.0pt\;background:white\;text-align:start\;'><strong><s
 pan style="font-family:Montserrat\;color:#41A85F\;">This event is in-perso
 n at</span></strong> <strong><span style="font-family:Montserrat\;color:#4
 1A85F\;">the</span></strong><strong><span style="font-family:Montserrat\;c
 olor:#41A85F\;"> Sentinel Building </span></strong><strong><span style="fo
 nt-family:Montserrat\;color:#41A85F\;">worksite location.</span></strong><
 /p></div>\n\n
END:VEVENT
END:VCALENDAR
