BEGIN:VCALENDAR
VERSION:2.0
METHOD:REQUEST
PRODID:-//ddaysoftware//NONSGML DDay.iCal 1.0//EN
BEGIN:VTIMEZONE
TZID:US Mountain Standard Time
BEGIN:STANDARD
DTSTART;VALUE=DATE:19000101
TZNAME:US Mountain Standard Time
TZOFFSETFROM:-0700
TZOFFSETTO:-0700
END:STANDARD
END:VTIMEZONE
BEGIN:VEVENT
DESCRIPTION:Tucson Water\, 310 W Alameda St\, Tucson\, AZ  85701\, IT Confe
 rence Room\n\nJoin Linda Kile\, your City Benefits Administrator to learn 
 about your 2026-27 medical plan options. \nAs part of our commitment to pr
 ovide comprehensive benefits\, we will be holding a positive enrollment th
 is year. This means all employees and retirees who would like to have medi
 cal coverage starting July 1\, 2026 must actively enroll and elect medical
  coverage during the May 4 – June 1 5:PM Arizona time open enrollment peri
 od.\nThis event is in-person at the Tucson Water worksite location.\nMicro
 soft Teams meeting \nJoin: https://teams.microsoft.com/meet/29855772980978
 ?p=cm8jiBmZQRocd4b8Xt Meeting ID: 298 557 729 809 78 Passcode: 25HG6e32 Di
 al in by phone +1 213-293-2303\,\,629974489#Phone conference ID: 629 974 4
 89#\n\n
DTEND;TZID=US Mountain Standard Time:20260518T150000
DTSTAMP:20260409T192714Z
DTSTART;TZID=US Mountain Standard Time:20260518T130000
LAST-MODIFIED:20260409T192714Z
LOCATION:310 W Alameda St\, Tucson\, AZ  85701\,
ORGANIZER;CN=Jacob Pawson via City of Tucson:MAILTO:74f60f1c-5601-4b65-98fc
 -88fe704dd7d1.21@oneteam.tucsonaz.gov
SEQUENCE:0
SUMMARY:IT Open Enrollment Meeting -- In-Person and Virtual
UID:74f60f1c-5601-4b65-98fc-88fe704dd7d1
X-ALT-DESC;FMTTYPE=text/html;FMTTYPE=text/html:Tucson Water\, 310 W Alameda
  St\, Tucson\, AZ  85701\, IT Conference Room\n\n<hr/><div><p style='margi
 n-right:0in\;margin-left:0in\;font-size:16px\;font-family:"Aptos"\,sans-se
 rif\;margin-top:0in\;margin-bottom:.25in\;font-size:11.0pt\;background:whi
 te\;' id="isPasted"><span style="font-size:18px\;font-family:Montserrat\;c
 olor:#333333\;">Join Linda Kile\, your City Benefits Administrator to <str
 ong><span style="font-family:Montserrat\;">learn about your 202</span></st
 rong></span><strong><span style="font-size:18px\;font-family:Montserrat\;c
 olor:#333333\;">6</span></strong><strong><span style="font-size:18px\;font
 -family:Montserrat\;color:#333333\;">-</span></strong><strong><span style=
 "font-size:18px\;font-family:Montserrat\;color:#333333\;">27</span></stron
 g> <strong><span style="font-size:18px\;font-family:Montserrat\;color:#333
 333\;">medical plan options.</span></strong><span style="font-size:18px\;f
 ont-family:Montserrat\;color:#333333\;"> </span></p><p unsafe.style='margi
 n-right:0in\;margin-left:0in\;font-size:16px\;font-family:"Aptos"\,sans-se
 rif\;margin-top:0in\;margin-bottom:.25in\;font-size:11.0pt\;background:whi
 te\;text-align:start\;'><span style="font-family:Montserrat\;color:#333333
 \;">As part of our commitment to provide comprehensive benefits\, we will 
 be holding a positive enrollment this year. This means all <strong><span s
 tyle="font-family:Montserrat\;">employees and retirees who would like to h
 ave medical coverage starting July 1\, 20</span></strong></span><strong><s
 pan style="font-family:Montserrat\;color:#333333\;">26</span></strong> <st
 rong><span style="font-family:Montserrat\;color:#333333\;">must actively e
 nroll and elect medical</span></strong><span style="font-family:Montserrat
 \;color:#333333\;"> coverage during the May 4 – June 1 5:PM Arizona time o
 pen enrollment period.</span></p><p unsafe.style='margin-right:0in\;margin
 -left:0in\;font-size:16px\;font-family:"Aptos"\,sans-serif\;margin-top:0in
 \;margin-bottom:.25in\;font-size:11.0pt\;background:white\;text-align:star
 t\;'><strong><span style="font-family:Montserrat\;color:#41A85F\;">This ev
 ent is in-person at</span></strong> <strong><span style="font-family:Monts
 errat\;color:#41A85F\;">the</span></strong> <strong><span style="font-fami
 ly:Montserrat\;color:#41A85F\;">Tucson Water</span></strong> <strong><span
  style="font-family:Montserrat\;color:#41A85F\;">worksite location.</span>
 </strong></p><p style='margin:0in\;font-size:16px\;font-family:"Aptos"\,sa
 ns-serif\;' id="isPasted"><strong><span style='font-size:20px\;font-family
 :"Segoe UI"\,sans-serif\;color:#242424\;'>Microsoft Teams meeting</span></
 strong><span style='font-family:"Segoe UI"\,sans-serif\;color:#242424\;'> 
 </span></p><p style='margin:0in\;font-size:16px\;font-family:"Aptos"\,sans
 -serif\;'><strong><span style='font-size:20px\;font-family:"Segoe UI"\,san
 s-serif\;color:#242424\;'>Join:</span></strong> <span style='font-family:"
 Segoe UI"\,sans-serif\;color:#242424\;'><a href="https://teams.microsoft.c
 om/meet/29855772980978?p=cm8jiBmZQRocd4b8Xt" title="Meeting join"><span st
 yle="font-size:20px\;color:#5B5FC7\;">https://teams.microsoft.com/meet/298
 55772980978?p=cm8jiBmZQRocd4b8Xt</span></a> </span><br/>Meeting ID: 298 55
 7 729 809 78 <br/>Passcode: 25HG6e32 </p><p><br/><strong>Dial in by phone<
 /strong> <a href="tel:+12132932303\,\,629974489"></a><br/><a href="tel:+12
 132932303\,\,629974489">+1 213-293-2303\,\,629974489#</a><br/>Phone confer
 ence ID: 629 974 489#</p></div>\n\n
END:VEVENT
END:VCALENDAR
