BEGIN:VCALENDAR
VERSION:2.0
METHOD:REQUEST
PRODID:-//ddaysoftware//NONSGML DDay.iCal 1.0//EN
BEGIN:VTIMEZONE
TZID:US Mountain Standard Time
BEGIN:STANDARD
DTSTART;VALUE=DATE:19000101
TZNAME:US Mountain Standard Time
TZOFFSETFROM:-0700
TZOFFSETTO:-0700
END:STANDARD
END:VTIMEZONE
BEGIN:VEVENT
DESCRIPTION:May 4\, 8-10am Open Enrollment In-Person Meeting\nTucson Water 
 Hayden Udall Facility\, 4401 E Tucson Estates Pkwy\, Admin Bldg\n\nJoin Li
 nda Kile\, your City Benefits Administrator to learn about your 2026-27 me
 dical plan options. As part of our commitment to provide comprehensive ben
 efits\, we will be holding a positive enrollment this year. This means all
  employees and retirees who would like to have medical coverage starting J
 uly 1\, 2026 must actively enroll and elect medical coverage during the Ma
 y 4 – June 1 5:PM Arizona time open enrollment period.This event is in-per
 son at Tucson Water's Hayden Udall worksite location.\n\n
DTEND;TZID=US Mountain Standard Time:20260504T100000
DTSTAMP:20260409T174349Z
DTSTART;TZID=US Mountain Standard Time:20260504T080000
LAST-MODIFIED:20260409T174349Z
LOCATION:4401 E Tucson Estates Pkwy\, Tucson\, AZ 85735
ORGANIZER;CN=Jacob Pawson via City of Tucson:MAILTO:70f1c80d-39ab-4162-b836
 -86b7f2e8003b.21@oneteam.tucsonaz.gov
SEQUENCE:4
SUMMARY:Tucson Water Open Enrollment Meeting -- In-Person
UID:70f1c80d-39ab-4162-b836-86b7f2e8003b
X-ALT-DESC;FMTTYPE=text/html;FMTTYPE=text/html:May 4\, 8-10am Open Enrollme
 nt In-Person Meeting<br/>Tucson Water Hayden Udall Facility\, 4401 E Tucso
 n Estates Pkwy\, Admin Bldg\n\n<hr/><div><p style='margin-right:0in\;margi
 n-left:0in\;font-size:16px\;font-family:"Aptos"\,sans-serif\;margin-top:0i
 n\;margin-bottom:.25in\;font-size:11.0pt\;background:white\;' id="isPasted
 "><span style="font-size:18px\;font-family:Montserrat\;color:#333333\;">Jo
 in Linda Kile\, your City Benefits Administrator to <strong><span style="f
 ont-family:Montserrat\;">learn about your 202</span></strong></span><stron
 g><span style="font-size:18px\;font-family:Montserrat\;color:#333333\;">6<
 /span></strong><strong><span style="font-size:18px\;font-family:Montserrat
 \;color:#333333\;">-</span></strong><strong><span style="font-size:18px\;f
 ont-family:Montserrat\;color:#333333\;">27</span></strong> <strong><span s
 tyle="font-size:18px\;font-family:Montserrat\;color:#333333\;">medical pla
 n options.</span></strong><span style="font-size:18px\;font-family:Montser
 rat\;color:#333333\;"> </span></p><p><span style="font-family:Montserrat\;
 color:#333333\;">As part of our commitment to provide comprehensive benefi
 ts\, we will be holding a positive enrollment this year. This means all <s
 trong><span style="font-family:Montserrat\;">employees and retirees who wo
 uld like to have medical coverage starting July 1\, 20</span></strong></sp
 an><strong><span style="font-family:Montserrat\;color:#333333\;">26</span>
 </strong> <strong><span style="font-family:Montserrat\;color:#333333\;">mu
 st actively enroll and elect medical</span></strong><span style="font-fami
 ly:Montserrat\;color:#333333\;"> coverage during the May 4 – June 1 5:PM A
 rizona time open enrollment period.</span></p><p><strong><span style="font
 -family:Montserrat\;color:#41A85F\;">This event is in-person at Tucson Wat
 er's Hayden Udall worksite location.</span></strong></p></div>\n\n
END:VEVENT
END:VCALENDAR
