BEGIN:VCALENDAR
VERSION:2.0
METHOD:REQUEST
PRODID:-//ddaysoftware//NONSGML DDay.iCal 1.0//EN
BEGIN:VTIMEZONE
TZID:US Mountain Standard Time
BEGIN:STANDARD
DTSTART;VALUE=DATE:19000101
TZNAME:US Mountain Standard Time
TZOFFSETFROM:-0700
TZOFFSETTO:-0700
END:STANDARD
END:VTIMEZONE
BEGIN:VEVENT
DESCRIPTION:TPD HQ\, 270 S. Stone Ave\, Tucson\, AZ\, First Floor Conferenc
 e Room\n\nJoin Linda Kile\, your City Benefits Administrator to learn abou
 t your 2026-27 medical plan options. As part of our commitment to provide 
 comprehensive benefits\, we will be holding a positive enrollment this yea
 r. This means all employees and retirees who would like to have medical co
 verage starting July 1\, 2026 must actively enroll and elect medical cover
 age during the May 4 – June 1 5:PM Arizona time open enrollment period.Thi
 s event is in-person at the Tucson Police Headquarters worksite location.\
 n\n
DTEND;TZID=US Mountain Standard Time:20260507T153000
DTSTAMP:20260409T184708Z
DTSTART;TZID=US Mountain Standard Time:20260507T133000
LAST-MODIFIED:20260409T184708Z
LOCATION:270 S. Stone Ave\, Tucson\, AZ
ORGANIZER;CN=Jacob Pawson via City of Tucson:MAILTO:6d96873f-f130-4bdd-b048
 -2949ca22dd79.21@oneteam.tucsonaz.gov
SEQUENCE:0
SUMMARY:TPD Open Enrollment Meeting -- In-Person
UID:6d96873f-f130-4bdd-b048-2949ca22dd79
X-ALT-DESC;FMTTYPE=text/html;FMTTYPE=text/html:TPD HQ\, 270 S. Stone Ave\, 
 Tucson\, AZ\, First Floor Conference Room\n\n<hr/><div><p id="isPasted">Jo
 in Linda Kile\, your City Benefits Administrator to <strong>learn about yo
 ur 202</strong><strong>6</strong><strong>-</strong><strong>27</strong> <st
 rong>medical plan options.</strong> </p><p>As part of our commitment to pr
 ovide comprehensive benefits\, we will be holding a positive enrollment th
 is year. This means all <strong>employees and retirees who would like to h
 ave medical coverage starting July 1\, 20</strong><strong>26</strong> <str
 ong>must actively enroll and elect medical</strong> coverage during the Ma
 y 4 – June 1 5:PM Arizona time open enrollment period.</p><p><strong>This 
 event is in-person at the Tucson Police Headquarters</strong> <strong>work
 site location.</strong></p></div>\n\n
END:VEVENT
END:VCALENDAR
