BEGIN:VCALENDAR
VERSION:2.0
METHOD:REQUEST
PRODID:-//ddaysoftware//NONSGML DDay.iCal 1.0//EN
BEGIN:VTIMEZONE
TZID:US Mountain Standard Time
BEGIN:STANDARD
DTSTART;VALUE=DATE:19000101
TZNAME:US Mountain Standard Time
TZOFFSETFROM:-0700
TZOFFSETTO:-0700
END:STANDARD
END:VTIMEZONE
BEGIN:VEVENT
DESCRIPTION:TPD HQ\, 270 S. Stone Ave\, Tucson\, AZ\, Second Floor Board Ro
 om\n\nJoin Linda Kile\, your City Benefits Administrator to learn about yo
 ur 2026-27 medical plan options. \nAs part of our commitment to provide co
 mprehensive benefits\, we will be holding a positive enrollment this year.
  This means all employees and retirees who would like to have medical cove
 rage starting July 1\, 2026 must actively enroll and elect medical coverag
 e during the May 4 – June 1 5:PM Arizona time open enrollment period.\nThi
 s event is in-person at the Fire Central worksite location and online via 
 Microsoft Teams.\nMicrosoft Teams meeting \nJoin: https://teams.microsoft.
 com/meet/21191151191369?p=HgOCKkH5eTjGZ85s9Z \nMeeting ID: 211 911 511 913
  69 Passcode: VA9Rk7Ka Dial in by phone +1 213-293-2303\,\,534671932#Phone
  conference ID: 534 671 932# \n\n
DTEND;TZID=US Mountain Standard Time:20260518T110000
DTSTAMP:20260409T192433Z
DTSTART;TZID=US Mountain Standard Time:20260518T090000
LAST-MODIFIED:20260409T192433Z
LOCATION:270 S. Stone Ave\, Tucson\, AZ
ORGANIZER;CN=Jacob Pawson via City of Tucson:MAILTO:6c525264-61a9-46f9-9def
 -6a2054675e7e.21@oneteam.tucsonaz.gov
SEQUENCE:0
SUMMARY:Fire - Open Enrollment Meeting -- In-Person and Virtual
UID:6c525264-61a9-46f9-9def-6a2054675e7e
X-ALT-DESC;FMTTYPE=text/html;FMTTYPE=text/html:TPD HQ\, 270 S. Stone Ave\, 
 Tucson\, AZ\, Second Floor Board Room\n\n<hr/><div><p style='margin-right:
 0in\;margin-left:0in\;font-size:16px\;font-family:"Aptos"\,sans-serif\;mar
 gin-top:0in\;margin-bottom:.25in\;font-size:11.0pt\;background:white\;' id
 ="isPasted"><span style="font-size:18px\;font-family:Montserrat\;color:#33
 3333\;">Join Linda Kile\, your City Benefits Administrator to <strong><spa
 n style="font-family:Montserrat\;">learn about your 202</span></strong></s
 pan><strong><span style="font-size:18px\;font-family:Montserrat\;color:#33
 3333\;">6</span></strong><strong><span style="font-size:18px\;font-family:
 Montserrat\;color:#333333\;">-</span></strong><strong><span style="font-si
 ze:18px\;font-family:Montserrat\;color:#333333\;">27</span></strong> <stro
 ng><span style="font-size:18px\;font-family:Montserrat\;color:#333333\;">m
 edical plan options.</span></strong><span style="font-size:18px\;font-fami
 ly:Montserrat\;color:#333333\;"> </span></p><p unsafe.style='margin-right:
 0in\;margin-left:0in\;font-size:16px\;font-family:"Aptos"\,sans-serif\;mar
 gin-top:0in\;margin-bottom:.25in\;font-size:11.0pt\;background:white\;text
 -align:start\;'><span style="font-family:Montserrat\;color:#333333\;">As p
 art of our commitment to provide comprehensive benefits\, we will be holdi
 ng a positive enrollment this year. This means all <strong><span style="fo
 nt-family:Montserrat\;">employees and retirees who would like to have medi
 cal coverage starting July 1\, 20</span></strong></span><strong><span styl
 e="font-family:Montserrat\;color:#333333\;">26</span></strong> <strong><sp
 an style="font-family:Montserrat\;color:#333333\;">must actively enroll an
 d elect medical</span></strong><span style="font-family:Montserrat\;color:
 #333333\;"> coverage during the May 4 – June 1 5:PM Arizona time open enro
 llment period.</span></p><p unsafe.style='margin-right:0in\;margin-left:0i
 n\;font-size:16px\;font-family:"Aptos"\,sans-serif\;margin-top:0in\;margin
 -bottom:.25in\;font-size:11.0pt\;background:white\;text-align:start\;'><st
 rong><span style="font-family:Montserrat\;color:#41A85F\;">This event is i
 n-person at</span></strong> <strong><span style="font-family:Montserrat\;c
 olor:#41A85F\;">the Fire Central</span></strong> <strong><span style="font
 -family:Montserrat\;color:#41A85F\;">worksite location and online via Micr
 osoft Teams.</span></strong></p><p style='margin:0in\;font-size:16px\;font
 -family:"Aptos"\,sans-serif\;' id="isPasted"><strong><span style='font-siz
 e:20px\;font-family:"Segoe UI"\,sans-serif\;color:#242424\;'>Microsoft Tea
 ms meeting</span></strong><span style='font-family:"Segoe UI"\,sans-serif\
 ;color:#242424\;'> </span></p><p style='margin:0in\;font-size:16px\;font-f
 amily:"Aptos"\,sans-serif\;'><strong><span style='font-size:20px\;font-fam
 ily:"Segoe UI"\,sans-serif\;color:#242424\;'>Join:</span></strong> <span s
 tyle='font-family:"Segoe UI"\,sans-serif\;color:#242424\;'><a href="https:
 //teams.microsoft.com/meet/21191151191369?p=HgOCKkH5eTjGZ85s9Z" title="Mee
 ting join"><span style="font-size:20px\;color:#5B5FC7\;">https://teams.mic
 rosoft.com/meet/21191151191369?p=HgOCKkH5eTjGZ85s9Z</span></a> </span></p>
 <p id="isPasted">Meeting ID: 211 911 511 913 69 <br/>Passcode: VA9Rk7Ka </
 p><p><strong>Dial in by phone</strong> <a href="tel:+12132932303\,\,534671
 932"></a><br/><a href="tel:+12132932303\,\,534671932">+1 213-293-2303\,\,5
 34671932#</a><br/>Phone conference ID: 534 671 932# </p></div>\n\n
END:VEVENT
END:VCALENDAR
