BEGIN:VCALENDAR
VERSION:2.0
METHOD:REQUEST
PRODID:-//ddaysoftware//NONSGML DDay.iCal 1.0//EN
BEGIN:VTIMEZONE
TZID:US Mountain Standard Time
BEGIN:STANDARD
DTSTART;VALUE=DATE:19000101
TZNAME:US Mountain Standard Time
TZOFFSETFROM:-0700
TZOFFSETTO:-0700
END:STANDARD
END:VTIMEZONE
BEGIN:VEVENT
DESCRIPTION:Microsoft Teams Meeting - https://teams.microsoft.com/meet/2611
 39963904825?p=vtdvxcOWaQr0Lp98gf\n\nJoin Linda Kile\, your City Benefits A
 dministrator to learn about your 2026-27 medical plan options. As part of 
 our commitment to provide comprehensive benefits\, we will be holding a po
 sitive enrollment this year. This means all employees and retirees who wou
 ld like to have medical coverage starting July 1\, 2026 must actively enro
 ll and elect medical coverage during the May 4 – June 1 5:PM Arizona time 
 open enrollment period.This event is online via Microsoft Teams.Microsoft 
 Teams meeting Join: https://teams.microsoft.com/meet/261139963904825?p=vtd
 vxcOWaQr0Lp98gf Meeting ID: 261 139 963 904 825 Passcode: MX32Xb7Z Dial in
  by phone +1 213-293-2303\,\,574505633#Phone conference ID: 574 505 633#\n
 \n
DTEND;TZID=US Mountain Standard Time:20260519T100000
DTSTAMP:20260416T175807Z
DTSTART;TZID=US Mountain Standard Time:20260519T083000
LAST-MODIFIED:20260416T175807Z
LOCATION:https://teams.microsoft.com/meet/261139963904825?p=vtdvxcOWaQr0Lp9
 8gf
ORGANIZER;CN=Jacob Pawson via City of Tucson:MAILTO:6ab90ff8-3315-41d5-b0db
 -9af43d21f73e.21@oneteam.tucsonaz.gov
SEQUENCE:0
SUMMARY:All Employees Open Enrollment Meeting -- Virtual
UID:6ab90ff8-3315-41d5-b0db-9af43d21f73e
X-ALT-DESC;FMTTYPE=text/html;FMTTYPE=text/html:Microsoft Teams Meeting - ht
 tps://teams.microsoft.com/meet/261139963904825?p=vtdvxcOWaQr0Lp98gf\n\n<hr
 /><div><p id="isPasted">Join Linda Kile\, your City Benefits Administrator
  to <strong>learn about your 202</strong><strong>6</strong><strong>-</stro
 ng><strong>27</strong> <strong>medical plan options.</strong> </p><p>As pa
 rt of our commitment to provide comprehensive benefits\, we will be holdin
 g a positive enrollment this year. This means all <strong>employees and re
 tirees who would like to have medical coverage starting July 1\, 20</stron
 g><strong>26</strong> <strong>must actively enroll and elect medical</stro
 ng> coverage during the May 4 – June 1 5:PM Arizona time open enrollment p
 eriod.</p><p><strong>This event is </strong><strong>online via Microsoft T
 eams.</strong></p><p><strong>Microsoft Teams meeting</strong> <br/><strong
 ><span style='font-size:20px\;font-family:"Segoe UI"\,sans-serif\;color:#2
 42424\;'>Join:</span></strong> <span style='font-family:"Segoe UI"\,sans-s
 erif\;color:#242424\;'><a href="https://teams.microsoft.com/meet/261139963
 904825?p=vtdvxcOWaQr0Lp98gf" title="Meeting join"><span style="font-size:2
 0px\;color:#5B5FC7\;">https://teams.microsoft.com/meet/261139963904825?p=v
 tdvxcOWaQr0Lp98gf</span></a> </span><br/><span style='font-size:14px\;font
 -family:"Segoe UI"\,sans-serif\;color:#616161\;'>Meeting ID: </span><span 
 style='font-size:14px\;font-family:"Segoe UI"\,sans-serif\;color:#242424\;
 '>261 139 963 904 825</span><span style='font-family:"Segoe UI"\,sans-seri
 f\;color:#242424\;'> </span><br/><span style='font-size:14px\;font-family:
 "Segoe UI"\,sans-serif\;color:#616161\;'>Passcode: </span><span style='fon
 t-size:14px\;font-family:"Segoe UI"\,sans-serif\;color:#242424\;'>MX32Xb7Z
 </span><span style='font-family:"Segoe UI"\,sans-serif\;color:#242424\;'> 
 </span><br/><strong><span style='font-family:"Segoe UI"\,sans-serif\;color
 :#242424\;'>Dial in by phone</span></strong><span style='font-family:"Sego
 e UI"\,sans-serif\;color:#242424\;'> </span><br/><span style='font-family:
 "Segoe UI"\,sans-serif\;color:#242424\;'><a href="tel:+12132932303\,\,5745
 05633"><span style="font-size:14px\;color:#5B5FC7\;">+1 213-293-2303\,\,57
 4505633#</span></a></span><br/><span style='font-size:14px\;font-family:"S
 egoe UI"\,sans-serif\;color:#616161\;'>Phone conference ID: </span><span s
 tyle='font-size:14px\;font-family:"Segoe UI"\,sans-serif\;color:#242424\;'
 >574 505 633#</span></p></div>\n\n
END:VEVENT
END:VCALENDAR
