BEGIN:VCALENDAR
VERSION:2.0
METHOD:REQUEST
PRODID:-//ddaysoftware//NONSGML DDay.iCal 1.0//EN
BEGIN:VTIMEZONE
TZID:US Mountain Standard Time
BEGIN:STANDARD
DTSTART;VALUE=DATE:19000101
TZNAME:US Mountain Standard Time
TZOFFSETFROM:-0700
TZOFFSETTO:-0700
END:STANDARD
END:VTIMEZONE
BEGIN:VEVENT
DESCRIPTION:Tucson Water\, 310 W Alameda St\, Tucson\, AZ  85701\, IT Confe
 rence Room\n\nJoin Linda Kile\, your City Benefits Administrator to learn 
 about your 2026-27 medical plan options. As part of our commitment to prov
 ide comprehensive benefits\, we will be holding a positive enrollment this
  year. This means all employees and retirees who would like to have medica
 l coverage starting July 1\, 2026 must actively enroll and elect medical c
 overage during the May 4 – June 1 5:PM Arizona time open enrollment period
 .This event is in-person at the Tucson Water worksite location and online 
 via Microsoft Teams.\nMicrosoft Teams meeting \nJoin: https://teams.micros
 oft.com/meet/27722612505610?p=pmIUP7tjubsbZrK1zj Meeting ID: 277 226 125 0
 56 10 Passcode: 29yk2eS9 Dial in by phone +1 213-293-2303\,\,212727614#Pho
 ne conference ID: 212 727 614# \n\n
DTEND;TZID=US Mountain Standard Time:20260506T120000
DTSTAMP:20260409T185302Z
DTSTART;TZID=US Mountain Standard Time:20260506T100000
LAST-MODIFIED:20260409T185302Z
LOCATION:310 W Alameda St\, Tucson\, AZ
ORGANIZER;CN=Jacob Pawson via City of Tucson:MAILTO:602c8862-74d1-49cc-9d36
 -3f5c95851976.21@oneteam.tucsonaz.gov
SEQUENCE:1
SUMMARY:IT Open Enrollment Meeting -- In-Person and Virtual
UID:602c8862-74d1-49cc-9d36-3f5c95851976
X-ALT-DESC;FMTTYPE=text/html;FMTTYPE=text/html:Tucson Water\, 310 W Alameda
  St\, Tucson\, AZ  85701\, IT Conference Room\n\n<hr/><div><p style='margi
 n-right:0in\;margin-left:0in\;font-size:16px\;font-family:"Aptos"\,sans-se
 rif\;margin-top:0in\;margin-bottom:.25in\;font-size:11.0pt\;background:whi
 te\;' id="isPasted"><span style="font-size:18px\;font-family:Montserrat\;c
 olor:#333333\;">Join Linda Kile\, your City Benefits Administrator to <str
 ong><span style="font-family:Montserrat\;">learn about your 202</span></st
 rong></span><strong><span style="font-size:18px\;font-family:Montserrat\;c
 olor:#333333\;">6</span></strong><strong><span style="font-size:18px\;font
 -family:Montserrat\;color:#333333\;">-</span></strong><strong><span style=
 "font-size:18px\;font-family:Montserrat\;color:#333333\;">27</span></stron
 g> <strong><span style="font-size:18px\;font-family:Montserrat\;color:#333
 333\;">medical plan options.</span></strong><span style="font-size:18px\;f
 ont-family:Montserrat\;color:#333333\;"> </span></p><p><span style="font-f
 amily:Montserrat\;color:#333333\;">As part of our commitment to provide co
 mprehensive benefits\, we will be holding a positive enrollment this year.
  This means all <strong><span style="font-family:Montserrat\;">employees a
 nd retirees who would like to have medical coverage starting July 1\, 20</
 span></strong></span><strong><span style="font-family:Montserrat\;color:#3
 33333\;">26</span></strong> <strong><span style="font-family:Montserrat\;c
 olor:#333333\;">must actively enroll and elect medical</span></strong><spa
 n style="font-family:Montserrat\;color:#333333\;"> coverage during the May
  4 – June 1 5:PM Arizona time open enrollment period.</span></p><p><strong
 ><span style="font-family:Montserrat\;color:#41A85F\;">This event is in-pe
 rson at</span></strong> <strong><span style="font-family:Montserrat\;color
 :#41A85F\;">the Tucson Water</span></strong> <strong><span style="font-fam
 ily:Montserrat\;color:#41A85F\;">worksite location and online via Microsof
 t Teams.</span></strong></p><p style='margin:0in\;font-size:16px\;font-fam
 ily:"Aptos"\,sans-serif\;' id="isPasted"><strong><span style='font-size:20
 px\;font-family:"Segoe UI"\,sans-serif\;color:#242424\;'>Microsoft Teams m
 eeting</span></strong><span style='font-family:"Segoe UI"\,sans-serif\;col
 or:#242424\;'> </span></p><p style='margin:0in\;font-size:16px\;font-famil
 y:"Aptos"\,sans-serif\;'><strong><span style='font-size:20px\;font-family:
 "Segoe UI"\,sans-serif\;color:#242424\;'>Join:</span></strong> <span style
 ='font-family:"Segoe UI"\,sans-serif\;color:#242424\;'><a href="https://te
 ams.microsoft.com/meet/27722612505610?p=pmIUP7tjubsbZrK1zj" title="Meeting
  join"><span style="font-size:20px\;color:#5B5FC7\;">https://teams.microso
 ft.com/meet/27722612505610?p=pmIUP7tjubsbZrK1zj</span></a> </span><br/>Mee
 ting ID: 277 226 125 056 10 <br/>Passcode: 29yk2eS9 <br/><br/><strong>Dial
  in by phone</strong> </p><p><a href="tel:+12132932303\,\,212727614">+1 21
 3-293-2303\,\,212727614#</a><br/>Phone conference ID: 212 727 614# </p></d
 iv>\n\n
END:VEVENT
END:VCALENDAR
