BEGIN:VCALENDAR
VERSION:2.0
METHOD:REQUEST
PRODID:-//ddaysoftware//NONSGML DDay.iCal 1.0//EN
BEGIN:VTIMEZONE
TZID:US Mountain Standard Time
BEGIN:STANDARD
DTSTART;VALUE=DATE:19000101
TZNAME:US Mountain Standard Time
TZOFFSETFROM:-0700
TZOFFSETTO:-0700
END:STANDARD
END:VTIMEZONE
BEGIN:VEVENT
DESCRIPTION:Morris K. Udall Center\, 7200 E. Tanque Verde Rd\, Tucson 85715
 \n\nJoin Linda Kile\, your City Benefits Administrator to learn about your
  2026-27 medical plan options. \nAs part of our commitment to provide comp
 rehensive benefits\, we will be holding a positive enrollment this year. T
 his means all employees and retirees who would like to have medical covera
 ge starting July 1\, 2026 must actively enroll and elect medical coverage 
 during the May 4 – June 1 5:PM Arizona time open enrollment period.\nThis 
 event is in-person at the Morris K. Udall Center location.\n\n
DTEND;TZID=US Mountain Standard Time:20260506T160000
DTSTAMP:20260409T184207Z
DTSTART;TZID=US Mountain Standard Time:20260506T140000
LAST-MODIFIED:20260409T184207Z
LOCATION:7200 E. Tanque Verde Rd\, Tucson 85715
ORGANIZER;CN=Jacob Pawson via City of Tucson:MAILTO:56e2f8ce-dd34-4f27-9e43
 -5c134b1b3df6.21@oneteam.tucsonaz.gov
SEQUENCE:0
SUMMARY:Retiree Open Enrollment Meeting -- In-Person
UID:56e2f8ce-dd34-4f27-9e43-5c134b1b3df6
X-ALT-DESC;FMTTYPE=text/html;FMTTYPE=text/html:Morris K. Udall Center\, 720
 0 E. Tanque Verde Rd\, Tucson 85715\n\n<hr/><div><p style='margin-right:0i
 n\;margin-left:0in\;font-size:16px\;font-family:"Aptos"\,sans-serif\;margi
 n-top:0in\;margin-bottom:.25in\;font-size:11.0pt\;background:white\;' id="
 isPasted"><span style="font-size:18px\;font-family:Montserrat\;color:#3333
 33\;">Join Linda Kile\, your City Benefits Administrator to <strong><span 
 style="font-family:Montserrat\;">learn about your 202</span></strong></spa
 n><strong><span style="font-size:18px\;font-family:Montserrat\;color:#3333
 33\;">6</span></strong><strong><span style="font-size:18px\;font-family:Mo
 ntserrat\;color:#333333\;">-</span></strong><strong><span style="font-size
 :18px\;font-family:Montserrat\;color:#333333\;">27</span></strong> <strong
 ><span style="font-size:18px\;font-family:Montserrat\;color:#333333\;">med
 ical plan options.</span></strong><span style="font-size:18px\;font-family
 :Montserrat\;color:#333333\;"> </span></p><p unsafe.style='margin-right:0i
 n\;margin-left:0in\;font-size:16px\;font-family:"Aptos"\,sans-serif\;margi
 n-top:0in\;margin-bottom:.25in\;font-size:11.0pt\;background:white\;text-a
 lign:start\;'><span style="font-family:Montserrat\;color:#333333\;">As par
 t of our commitment to provide comprehensive benefits\, we will be holding
  a positive enrollment this year. This means all <strong><span style="font
 -family:Montserrat\;">employees and retirees who would like to have medica
 l coverage starting July 1\, 20</span></strong></span><strong><span style=
 "font-family:Montserrat\;color:#333333\;">26</span></strong> <strong><span
  style="font-family:Montserrat\;color:#333333\;">must actively enroll and 
 elect medical</span></strong><span style="font-family:Montserrat\;color:#3
 33333\;"> coverage during the May 4 – June 1 5:PM Arizona time open enroll
 ment period.</span></p><p unsafe.style='margin-right:0in\;margin-left:0in\
 ;font-size:16px\;font-family:"Aptos"\,sans-serif\;margin-top:0in\;margin-b
 ottom:.25in\;font-size:11.0pt\;background:white\;text-align:start\;'><stro
 ng><span style="font-family:Montserrat\;color:#41A85F\;">This event is in-
 person at</span></strong> <strong><span style="font-family:Montserrat\;col
 or:#41A85F\;">the</span></strong> <strong><span style="font-family:Montser
 rat\;color:#41A85F\;">Morris K. Udall Center </span></strong><strong><span
  style="font-family:Montserrat\;color:#41A85F\;">location.</span></strong>
 </p></div>\n\n
END:VEVENT
END:VCALENDAR
