BEGIN:VCALENDAR
VERSION:2.0
METHOD:REQUEST
PRODID:-//ddaysoftware//NONSGML DDay.iCal 1.0//EN
BEGIN:VTIMEZONE
TZID:US Mountain Standard Time
BEGIN:STANDARD
DTSTART;VALUE=DATE:19000101
TZNAME:US Mountain Standard Time
TZOFFSETFROM:-0700
TZOFFSETTO:-0700
END:STANDARD
END:VTIMEZONE
BEGIN:VEVENT
DESCRIPTION:Patrick K. Hardesty Midtown Multi-Service Center\, 1100 S Alver
 non Way\, Tucson\, AZ 85711-5304\, Public Meeting Room\n\nJoin Linda Kile\
 , your City Benefits Administrator to learn about your 2026-27 medical pla
 n options. \nAs part of our commitment to provide comprehensive benefits\,
  we will be holding a positive enrollment this year. This means all employ
 ees and retirees who would like to have medical coverage starting July 1\,
  2026 must actively enroll and elect medical coverage during the May 4 – J
 une 1 5:PM Arizona time open enrollment period.\nThis event is in-person a
 t the Patrick K. Hardesty Midtown Multi-Service Center worksite location.\
 n\n
DTEND;TZID=US Mountain Standard Time:20260520T100000
DTSTAMP:20260409T200515Z
DTSTART;TZID=US Mountain Standard Time:20260520T073000
LAST-MODIFIED:20260409T200515Z
LOCATION:1100 S Alvernon Way\, Tucson\, AZ 85711-5304
ORGANIZER;CN=Jacob Pawson via City of Tucson:MAILTO:4f3456b4-7dbe-41c9-b812
 -6c218b07e57a.21@oneteam.tucsonaz.gov
SEQUENCE:0
SUMMARY:TPD Open Enrollment Meeting -- In-Person
UID:4f3456b4-7dbe-41c9-b812-6c218b07e57a
X-ALT-DESC;FMTTYPE=text/html;FMTTYPE=text/html:Patrick K. Hardesty Midtown 
 Multi-Service Center\, 1100 S Alvernon Way\, Tucson\, AZ 85711-5304\, Publ
 ic Meeting Room\n\n<hr/><div><p style='margin-right:0in\;margin-left:0in\;
 font-size:16px\;font-family:"Aptos"\,sans-serif\;margin-top:0in\;margin-bo
 ttom:.25in\;font-size:11.0pt\;background:white\;' id="isPasted"><span styl
 e="font-size:18px\;font-family:Montserrat\;color:#333333\;">Join Linda Kil
 e\, your City Benefits Administrator to <strong><span style="font-family:M
 ontserrat\;">learn about your 202</span></strong></span><strong><span styl
 e="font-size:18px\;font-family:Montserrat\;color:#333333\;">6</span></stro
 ng><strong><span style="font-size:18px\;font-family:Montserrat\;color:#333
 333\;">-</span></strong><strong><span style="font-size:18px\;font-family:M
 ontserrat\;color:#333333\;">27</span></strong> <strong><span style="font-s
 ize:18px\;font-family:Montserrat\;color:#333333\;">medical plan options.</
 span></strong><span style="font-size:18px\;font-family:Montserrat\;color:#
 333333\;"> </span></p><p unsafe.style='margin-right:0in\;margin-left:0in\;
 font-size:16px\;font-family:"Aptos"\,sans-serif\;margin-top:0in\;margin-bo
 ttom:.25in\;font-size:11.0pt\;background:white\;text-align:start\;'><span 
 style="font-family:Montserrat\;color:#333333\;">As part of our commitment 
 to provide comprehensive benefits\, we will be holding a positive enrollme
 nt this year. This means all <strong><span style="font-family:Montserrat\;
 ">employees and retirees who would like to have medical coverage starting 
 July 1\, 20</span></strong></span><strong><span style="font-family:Montser
 rat\;color:#333333\;">26</span></strong> <strong><span style="font-family:
 Montserrat\;color:#333333\;">must actively enroll and elect medical</span>
 </strong><span style="font-family:Montserrat\;color:#333333\;"> coverage d
 uring the May 4 – June 1 5:PM Arizona time open enrollment period.</span><
 /p><p unsafe.style='margin-right:0in\;margin-left:0in\;font-size:16px\;fon
 t-family:"Aptos"\,sans-serif\;margin-top:0in\;margin-bottom:.25in\;font-si
 ze:11.0pt\;background:white\;text-align:start\;'><strong><span style="font
 -family:Montserrat\;color:#41A85F\;">This event is in-person at</span></st
 rong> <strong><span style="font-family:Montserrat\;color:#41A85F\;">the</s
 pan></strong> <strong><span style="font-family:Montserrat\;color:#41A85F\;
 ">Patrick K. Hardesty Midtown Multi-Service Center</span></strong> <strong
 ><span style="font-family:Montserrat\;color:#41A85F\;">worksite location.<
 /span></strong></p></div>\n\n
END:VEVENT
END:VCALENDAR
