BEGIN:VCALENDAR
VERSION:2.0
METHOD:REQUEST
PRODID:-//ddaysoftware//NONSGML DDay.iCal 1.0//EN
BEGIN:VTIMEZONE
TZID:US Mountain Standard Time
BEGIN:STANDARD
DTSTART;VALUE=DATE:19000101
TZNAME:US Mountain Standard Time
TZOFFSETFROM:-0700
TZOFFSETTO:-0700
END:STANDARD
END:VTIMEZONE
BEGIN:VEVENT
DESCRIPTION:Thomas O. Price Service Center\, 4004 South Park Ave\, Admin Bl
 dg\n\nJoin Linda Kile\, your City Benefits Administrator to learn about yo
 ur 2026-27 medical plan options. As part of our commitment to provide comp
 rehensive benefits\, we will be holding a positive enrollment this year. T
 his means all employees and retirees who would like to have medical covera
 ge starting July 1\, 2026 must actively enroll and elect medical coverage 
 during the May 4 – June 1 5:PM Arizona time open enrollment period.This ev
 ent is in-person at the Thomas O. Price Service Center worksite location.\
 n \n\n
DTEND;TZID=US Mountain Standard Time:20260504T153000
DTSTAMP:20260409T174416Z
DTSTART;TZID=US Mountain Standard Time:20260504T133000
LAST-MODIFIED:20260409T174416Z
LOCATION:4004 South Park Ave.\, Tucson\, AZ 85714
ORGANIZER;CN=Jacob Pawson via City of Tucson:MAILTO:4aa7b695-babc-4537-b38a
 -74f9e2cb45d0.21@oneteam.tucsonaz.gov
SEQUENCE:1
SUMMARY:GSD Open Enrollment Meeting -- In-Person
UID:4aa7b695-babc-4537-b38a-74f9e2cb45d0
X-ALT-DESC;FMTTYPE=text/html;FMTTYPE=text/html:Thomas O. Price Service Cent
 er\, 4004 South Park Ave\, Admin Bldg\n\n<hr/><div><p style='margin-right:
 0in\;margin-left:0in\;font-size:16px\;font-family:"Aptos"\,sans-serif\;mar
 gin-top:0in\;margin-bottom:.25in\;font-size:11.0pt\;background:white\;' id
 ="isPasted"><span style="font-size:18px\;font-family:Montserrat\;color:#33
 3333\;">Join Linda Kile\, your City Benefits Administrator to <strong><spa
 n style="font-family:Montserrat\;">learn about your 202</span></strong></s
 pan><strong><span style="font-size:18px\;font-family:Montserrat\;color:#33
 3333\;">6</span></strong><strong><span style="font-size:18px\;font-family:
 Montserrat\;color:#333333\;">-</span></strong><strong><span style="font-si
 ze:18px\;font-family:Montserrat\;color:#333333\;">27</span></strong> <stro
 ng><span style="font-size:18px\;font-family:Montserrat\;color:#333333\;">m
 edical plan options.</span></strong><span style="font-size:18px\;font-fami
 ly:Montserrat\;color:#333333\;"> </span></p><p><span style="font-family:Mo
 ntserrat\;color:#333333\;">As part of our commitment to provide comprehens
 ive benefits\, we will be holding a positive enrollment this year. This me
 ans all <strong><span style="font-family:Montserrat\;">employees and retir
 ees who would like to have medical coverage starting July 1\, 20</span></s
 trong></span><strong><span style="font-family:Montserrat\;color:#333333\;"
 >26</span></strong> <strong><span style="font-family:Montserrat\;color:#33
 3333\;">must actively enroll and elect medical</span></strong><span style=
 "font-family:Montserrat\;color:#333333\;"> coverage during the May 4 – Jun
 e 1 5:PM Arizona time open enrollment period.</span></p><p><strong><span s
 tyle="font-family:Montserrat\;color:#41A85F\;">This event is in-person at 
 the Thomas O. Price Service Center worksite location.</span></strong></p><
 p style='margin-right:0in\;margin-left:0in\;font-size:16px\;font-family:"A
 ptos"\,sans-serif\;margin-top:0in\;margin-bottom:8.0pt\;font-size:11.0pt\;
 '> </p></div>\n\n
END:VEVENT
END:VCALENDAR
