BEGIN:VCALENDAR
VERSION:2.0
METHOD:REQUEST
PRODID:-//ddaysoftware//NONSGML DDay.iCal 1.0//EN
BEGIN:VTIMEZONE
TZID:US Mountain Standard Time
BEGIN:STANDARD
DTSTART;VALUE=DATE:19000101
TZNAME:US Mountain Standard Time
TZOFFSETFROM:-0700
TZOFFSETTO:-0700
END:STANDARD
END:VTIMEZONE
BEGIN:VEVENT
DESCRIPTION:Microsoft Teams Meeting - https://teams.microsoft.com/meet/2687
 58606481310?p=j6aiyJAsAwJVSSe7Ic\n\nJoin Linda Kile\, your City Benefits A
 dministrator to learn about your 2026-27 medical plan options. As part of 
 our commitment to provide comprehensive benefits\, we will be holding a po
 sitive enrollment this year. This means all employees and retirees who wou
 ld like to have medical coverage starting July 1\, 2026 must actively enro
 ll and elect medical coverage during the May 4 – June 1 5:PM Arizona time 
 open enrollment period.This event is online via Microsoft Teams.Microsoft 
 Teams meeting Join: https://teams.microsoft.com/meet/268758606481310?p=j6a
 iyJAsAwJVSSe7Ic Meeting ID: 268 758 606 481 310 Passcode: ec2LZ9En \nDial 
 in by phone \n+1 213-293-2303\,\,103276436#Phone conference ID: 103 276 43
 6#\n\n
DTEND;TZID=US Mountain Standard Time:20260511T093000
DTSTAMP:20260416T175523Z
DTSTART;TZID=US Mountain Standard Time:20260511T080000
LAST-MODIFIED:20260416T175523Z
LOCATION:https://teams.microsoft.com/meet/268758606481310?p=j6aiyJAsAwJVSSe
 7Ic
ORGANIZER;CN=Jacob Pawson via City of Tucson:MAILTO:3b239405-a758-4366-9408
 -ed81aa0fd2e9.21@oneteam.tucsonaz.gov
SEQUENCE:0
SUMMARY:All Employees Open Enrollment Meeting -- Virtual
UID:3b239405-a758-4366-9408-ed81aa0fd2e9
X-ALT-DESC;FMTTYPE=text/html;FMTTYPE=text/html:Microsoft Teams Meeting - ht
 tps://teams.microsoft.com/meet/268758606481310?p=j6aiyJAsAwJVSSe7Ic\n\n<hr
 /><div><p id="isPasted">Join Linda Kile\, your City Benefits Administrator
  to <strong>learn about your 202</strong><strong>6</strong><strong>-</stro
 ng><strong>27</strong> <strong>medical plan options.</strong> </p><p>As pa
 rt of our commitment to provide comprehensive benefits\, we will be holdin
 g a positive enrollment this year. This means all <strong>employees and re
 tirees who would like to have medical coverage starting July 1\, 20</stron
 g><strong>26</strong> <strong>must actively enroll and elect medical</stro
 ng> coverage during the May 4 – June 1 5:PM Arizona time open enrollment p
 eriod.</p><p><strong>This event is </strong><strong>online via Microsoft T
 eams.</strong></p><p><strong>Microsoft Teams meeting</strong> <br/><strong
 ><span style='font-size:20px\;font-family:"Segoe UI"\,sans-serif\;color:#2
 42424\;'>Join:</span></strong> <span style='font-family:"Segoe UI"\,sans-s
 erif\;color:#242424\;'><a href="https://teams.microsoft.com/meet/268758606
 481310?p=j6aiyJAsAwJVSSe7Ic" title="Meeting join"><span style="font-size:2
 0px\;color:#5B5FC7\;">https://teams.microsoft.com/meet/268758606481310?p=j
 6aiyJAsAwJVSSe7Ic</span></a> </span><br/><span style='font-size:14px\;font
 -family:"Segoe UI"\,sans-serif\;color:#616161\;'>Meeting ID: </span><span 
 style='font-size:14px\;font-family:"Segoe UI"\,sans-serif\;color:#242424\;
 '>268 758 606 481 310</span><span style='font-family:"Segoe UI"\,sans-seri
 f\;color:#242424\;'> </span><br/><span style='font-size:14px\;font-family:
 "Segoe UI"\,sans-serif\;color:#616161\;'>Passcode: </span><span style='fon
 t-size:14px\;font-family:"Segoe UI"\,sans-serif\;color:#242424\;'>ec2LZ9En
 </span><span style='font-family:"Segoe UI"\,sans-serif\;color:#242424\;'> 
 </span></p><p style='margin:0in\;font-size:16px\;font-family:"Aptos"\,sans
 -serif\;'><strong><span style='font-family:"Segoe UI"\,sans-serif\;color:#
 242424\;'>Dial in by phone</span></strong><span style='font-family:"Segoe 
 UI"\,sans-serif\;color:#242424\;'> </span></p><p style='margin:0in\;font-s
 ize:16px\;font-family:"Aptos"\,sans-serif\;'><span style='font-family:"Seg
 oe UI"\,sans-serif\;color:#242424\;'><a href="tel:+12132932303\,\,10327643
 6"><span style="font-size:14px\;color:#5B5FC7\;">+1 213-293-2303\,\,103276
 436#</span></a></span></p><p><span style='font-size:14px\;font-family:"Seg
 oe UI"\,sans-serif\;color:#616161\;'>Phone conference ID: </span><span sty
 le='font-size:14px\;font-family:"Segoe UI"\,sans-serif\;color:#242424\;'>1
 03 276 436#</span></p></div>\n\n
END:VEVENT
END:VCALENDAR
