BEGIN:VCALENDAR
VERSION:2.0
METHOD:REQUEST
PRODID:-//ddaysoftware//NONSGML DDay.iCal 1.0//EN
BEGIN:VTIMEZONE
TZID:US Mountain Standard Time
BEGIN:STANDARD
DTSTART;VALUE=DATE:19000101
TZNAME:US Mountain Standard Time
TZOFFSETFROM:-0700
TZOFFSETTO:-0700
END:STANDARD
END:VTIMEZONE
BEGIN:VEVENT
DESCRIPTION:Microsoft Teams meeting - https://teams.microsoft.com/meet/2385
 1823663552?p=XZuIzVCllVPpZi263J\n\nJoin Linda Kile\, your City Benefits Ad
 ministrator to learn about your 2026-27 medical plan options. As part of o
 ur commitment to provide comprehensive benefits\, we will be holding a pos
 itive enrollment this year. This means all employees and retirees who woul
 d like to have medical coverage starting July 1\, 2026 must actively enrol
 l and elect medical coverage during the May 4 – June 1 5:PM Arizona time o
 pen enrollment period.This event is online via Microsoft Teams.Microsoft T
 eams meeting Join: https://teams.microsoft.com/meet/23851823663552?p=XZuIz
 VCllVPpZi263JMeeting ID: 238 518 236 635 52 Passcode: qb7yo2iU Dial in by 
 phone +1 213-293-2303\,\,502130131#Phone conference ID: 502 130 131#\n\n
DTEND;TZID=US Mountain Standard Time:20260522T103000
DTSTAMP:20260416T180638Z
DTSTART;TZID=US Mountain Standard Time:20260522T090000
LAST-MODIFIED:20260416T180638Z
LOCATION:https://teams.microsoft.com/meet/23851823663552?p=XZuIzVCllVPpZi26
 3J
ORGANIZER;CN=Jacob Pawson via City of Tucson:MAILTO:373511a0-36b2-4836-8a18
 -434bbd24ae62.21@oneteam.tucsonaz.gov
SEQUENCE:1
SUMMARY:All Employees Open Enrollment Meeting -- Virtual
UID:373511a0-36b2-4836-8a18-434bbd24ae62
X-ALT-DESC;FMTTYPE=text/html;FMTTYPE=text/html:Microsoft Teams meeting - ht
 tps://teams.microsoft.com/meet/23851823663552?p=XZuIzVCllVPpZi263J\n\n<hr/
 ><div><p id="isPasted">Join Linda Kile\, your City Benefits Administrator 
 to <strong>learn about your 202</strong><strong>6</strong><strong>-</stron
 g><strong>27</strong> <strong>medical plan options.</strong> </p><p>As par
 t of our commitment to provide comprehensive benefits\, we will be holding
  a positive enrollment this year. This means all <strong>employees and ret
 irees who would like to have medical coverage starting July 1\, 20</strong
 ><strong>26</strong> <strong>must actively enroll and elect medical</stron
 g> coverage during the May 4 – June 1 5:PM Arizona time open enrollment pe
 riod.</p><p><strong>This event is </strong><strong>online via Microsoft Te
 ams.</strong></p><p><strong>Microsoft Teams meeting</strong> <br/><strong>
 Join: </strong><a href="https://teams.microsoft.com/meet/23851823663552?p=
 XZuIzVCllVPpZi263J" title="Meeting join">https://teams.microsoft.com/meet/
 23851823663552?p=XZuIzVCllVPpZi263J</a><br/>Meeting ID: 238 518 236 635 52
  <br/>Passcode: qb7yo2iU </p><p><strong>Dial in by phone</strong> <br/><a 
 href="tel:+12132932303\,\,502130131">+1 213-293-2303\,\,502130131#</a><br/
 >Phone conference ID: 502 130 131#</p></div>\n\n
END:VEVENT
END:VCALENDAR
