BEGIN:VCALENDAR
VERSION:2.0
METHOD:REQUEST
PRODID:-//ddaysoftware//NONSGML DDay.iCal 1.0//EN
BEGIN:VTIMEZONE
TZID:US Mountain Standard Time
BEGIN:STANDARD
DTSTART;VALUE=DATE:19000101
TZNAME:US Mountain Standard Time
TZOFFSETFROM:-0700
TZOFFSETTO:-0700
END:STANDARD
END:VTIMEZONE
BEGIN:VEVENT
DESCRIPTION:Retiree Virtual Meeting via Microsoft Teams\n\nJoin Linda Kile\
 , your City Benefits Administrator to learn about your 2026-27 medical pla
 n options. As part of our commitment to provide comprehensive benefits\, w
 e will be holding a positive enrollment this year. This means all employee
 s and retirees who would like to have medical coverage starting July 1\, 2
 026 must actively enroll and elect medical coverage during the May 4 – Jun
 e 1 5:PM Arizona time open enrollment period.This event is virtual via Mic
 rosoft Teams.\nMicrosoft Teams meeting \nJoin: https://teams.microsoft.com
 /meet/22392025063053?p=tgiOYsGsuJwp3Uztgr Meeting ID: 223 920 250 630 53 P
 asscode: xT6NM67n Dial in by phone +1 213-293-2303\,\,686915810#Phone conf
 erence ID: 686 915 810# \n\n
DTEND;TZID=US Mountain Standard Time:20260508T103000
DTSTAMP:20260409T191202Z
DTSTART;TZID=US Mountain Standard Time:20260508T090000
LAST-MODIFIED:20260409T191202Z
LOCATION:https://teams.microsoft.com/meet/22392025063053?p=tgiOYsGsuJwp3Uzt
 gr
ORGANIZER;CN=Jacob Pawson via City of Tucson:MAILTO:1a2915d7-7a3c-46c8-9696
 -be11a31b5ccb.21@oneteam.tucsonaz.gov
SEQUENCE:1
SUMMARY:Retiree Open Enrollment Meeting -- Virtual Only
UID:1a2915d7-7a3c-46c8-9696-be11a31b5ccb
X-ALT-DESC;FMTTYPE=text/html;FMTTYPE=text/html:Retiree Virtual Meeting via 
 Microsoft Teams\n\n<hr/><div><p style='margin-right:0in\;margin-left:0in\;
 font-size:16px\;font-family:"Aptos"\,sans-serif\;margin-top:0in\;margin-bo
 ttom:.25in\;font-size:11.0pt\;background:white\;' id="isPasted"><span styl
 e="font-size:18px\;font-family:Montserrat\;color:#333333\;">Join Linda Kil
 e\, your City Benefits Administrator to <strong><span style="font-family:M
 ontserrat\;">learn about your 202</span></strong></span><strong><span styl
 e="font-size:18px\;font-family:Montserrat\;color:#333333\;">6</span></stro
 ng><strong><span style="font-size:18px\;font-family:Montserrat\;color:#333
 333\;">-</span></strong><strong><span style="font-size:18px\;font-family:M
 ontserrat\;color:#333333\;">27</span></strong> <strong><span style="font-s
 ize:18px\;font-family:Montserrat\;color:#333333\;">medical plan options.</
 span></strong><span style="font-size:18px\;font-family:Montserrat\;color:#
 333333\;"> </span></p><p><span style="font-family:Montserrat\;color:#33333
 3\;">As part of our commitment to provide comprehensive benefits\, we will
  be holding a positive enrollment this year. This means all <strong><span 
 style="font-family:Montserrat\;">employees and retirees who would like to 
 have medical coverage starting July 1\, 20</span></strong></span><strong><
 span style="font-family:Montserrat\;color:#333333\;">26</span></strong> <s
 trong><span style="font-family:Montserrat\;color:#333333\;">must actively 
 enroll and elect medical</span></strong><span style="font-family:Montserra
 t\;color:#333333\;"> coverage during the May 4 – June 1 5:PM Arizona time 
 open enrollment period.</span></p><p><strong><span style="font-family:Mont
 serrat\;color:#41A85F\;">This event is virtual via Microsoft Teams</span><
 /strong><strong><span style="font-family:Montserrat\;color:#41A85F\;">.</s
 pan></strong></p><p style='margin:0in\;font-size:16px\;font-family:"Aptos"
 \,sans-serif\;' id="isPasted"><strong><span style='font-size:20px\;font-fa
 mily:"Segoe UI"\,sans-serif\;color:#242424\;'>Microsoft Teams meeting</spa
 n></strong><span style='font-family:"Segoe UI"\,sans-serif\;color:#242424\
 ;'> </span></p><p style='margin:0in\;font-size:16px\;font-family:"Aptos"\,
 sans-serif\;'><strong><span style='font-size:20px\;font-family:"Segoe UI"\
 ,sans-serif\;color:#242424\;'>Join:</span></strong> <span style='font-fami
 ly:"Segoe UI"\,sans-serif\;color:#242424\;'><a href="https://teams.microso
 ft.com/meet/22392025063053?p=tgiOYsGsuJwp3Uztgr" title="Meeting join"><spa
 n style="font-size:20px\;color:#5B5FC7\;">https://teams.microsoft.com/meet
 /22392025063053?p=tgiOYsGsuJwp3Uztgr</span></a> </span><br/>Meeting ID: 22
 3 920 250 630 53 <br/>Passcode: xT6NM67n </p><p><br/><strong>Dial in by ph
 one</strong> <br/><a href="tel:+12132932303\,\,686915810">+1 213-293-2303\
 ,\,686915810#</a><br/>Phone conference ID: 686 915 810# </p></div>\n\n
END:VEVENT
END:VCALENDAR
