BEGIN:VCALENDAR
VERSION:2.0
METHOD:REQUEST
PRODID:-//ddaysoftware//NONSGML DDay.iCal 1.0//EN
BEGIN:VTIMEZONE
TZID:US Mountain Standard Time
BEGIN:STANDARD
DTSTART;VALUE=DATE:19000101
TZNAME:US Mountain Standard Time
TZOFFSETFROM:-0700
TZOFFSETTO:-0700
END:STANDARD
END:VTIMEZONE
BEGIN:VEVENT
DESCRIPTION:Westside Police Service Center\, 1310 W Miracle Mile\, Tucson\,
  AZ 85705-9320\, Rillito Room\n\nJoin Linda Kile\, your City Benefits Admi
 nistrator to learn about your 2026-27 medical plan options. \nAs part of o
 ur commitment to provide comprehensive benefits\, we will be holding a pos
 itive enrollment this year. This means all employees and retirees who woul
 d like to have medical coverage starting July 1\, 2026 must actively enrol
 l and elect medical coverage during the May 4 – June 1 5:PM Arizona time o
 pen enrollment period.\nThis event is in-person at the Westside Police Ser
 vice Center worksite location.\n\n
DTEND;TZID=US Mountain Standard Time:20260514T110000
DTSTAMP:20260409T191723Z
DTSTART;TZID=US Mountain Standard Time:20260514T090000
LAST-MODIFIED:20260409T191723Z
LOCATION:1310 W Miracle Mile Tucson\, AZ 85705-9320
ORGANIZER;CN=Jacob Pawson via City of Tucson:MAILTO:150e81e6-b59e-4352-90aa
 -22a68f13f470.21@oneteam.tucsonaz.gov
SEQUENCE:0
SUMMARY:Retiree Open Enrollment Meeting -- In-Person
UID:150e81e6-b59e-4352-90aa-22a68f13f470
X-ALT-DESC;FMTTYPE=text/html;FMTTYPE=text/html:Westside Police Service Cent
 er\, 1310 W Miracle Mile\, Tucson\, AZ 85705-9320\, Rillito Room\n\n<hr/><
 div><p style='margin-right:0in\;margin-left:0in\;font-size:16px\;font-fami
 ly:"Aptos"\,sans-serif\;margin-top:0in\;margin-bottom:.25in\;font-size:11.
 0pt\;background:white\;' id="isPasted"><span style="font-size:18px\;font-f
 amily:Montserrat\;color:#333333\;">Join Linda Kile\, your City Benefits Ad
 ministrator to <strong><span style="font-family:Montserrat\;">learn about 
 your 202</span></strong></span><strong><span style="font-size:18px\;font-f
 amily:Montserrat\;color:#333333\;">6</span></strong><strong><span style="f
 ont-size:18px\;font-family:Montserrat\;color:#333333\;">-</span></strong><
 strong><span style="font-size:18px\;font-family:Montserrat\;color:#333333\
 ;">27</span></strong> <strong><span style="font-size:18px\;font-family:Mon
 tserrat\;color:#333333\;">medical plan options.</span></strong><span style
 ="font-size:18px\;font-family:Montserrat\;color:#333333\;"> </span></p><p 
 unsafe.style='margin-right:0in\;margin-left:0in\;font-size:16px\;font-fami
 ly:"Aptos"\,sans-serif\;margin-top:0in\;margin-bottom:.25in\;font-size:11.
 0pt\;background:white\;text-align:start\;'><span style="font-family:Montse
 rrat\;color:#333333\;">As part of our commitment to provide comprehensive 
 benefits\, we will be holding a positive enrollment this year. This means 
 all <strong><span style="font-family:Montserrat\;">employees and retirees 
 who would like to have medical coverage starting July 1\, 20</span></stron
 g></span><strong><span style="font-family:Montserrat\;color:#333333\;">26<
 /span></strong> <strong><span style="font-family:Montserrat\;color:#333333
 \;">must actively enroll and elect medical</span></strong><span style="fon
 t-family:Montserrat\;color:#333333\;"> coverage during the May 4 – June 1 
 5:PM Arizona time open enrollment period.</span></p><p unsafe.style='margi
 n-right:0in\;margin-left:0in\;font-size:16px\;font-family:"Aptos"\,sans-se
 rif\;margin-top:0in\;margin-bottom:.25in\;font-size:11.0pt\;background:whi
 te\;text-align:start\;'><strong><span style="font-family:Montserrat\;color
 :#41A85F\;">This event is in-person at</span></strong> <strong><span style
 ="font-family:Montserrat\;color:#41A85F\;">the</span></strong> <strong><sp
 an style="font-family:Montserrat\;color:#41A85F\;">Westside Police Service
  Center</span></strong> <strong><span style="font-family:Montserrat\;color
 :#41A85F\;">worksite location.</span></strong></p></div>\n\n
END:VEVENT
END:VCALENDAR
