BEGIN:VCALENDAR
VERSION:2.0
METHOD:REQUEST
PRODID:-//ddaysoftware//NONSGML DDay.iCal 1.0//EN
BEGIN:VTIMEZONE
TZID:US Mountain Standard Time
BEGIN:STANDARD
DTSTART;VALUE=DATE:19000101
TZNAME:US Mountain Standard Time
TZOFFSETFROM:-0700
TZOFFSETTO:-0700
END:STANDARD
END:VTIMEZONE
BEGIN:VEVENT
DESCRIPTION:Thomas O. Price Service Center\, 4004 South Park Ave\, Amphithe
 ater\n\nJoin Linda Kile\, your City Benefits Administrator to learn about 
 your 2026-27 medical plan options. \nAs part of our commitment to provide 
 comprehensive benefits\, we will be holding a positive enrollment this yea
 r. This means all employees and retirees who would like to have medical co
 verage starting July 1\, 2026 must actively enroll and elect medical cover
 age during the May 4 – June 1 5:PM Arizona time open enrollment period.\nT
 his event is in-person at the Thomas O. Price Service Center worksite loca
 tion.\n\n
DTEND;TZID=US Mountain Standard Time:20260519T110000
DTSTAMP:20260409T193138Z
DTSTART;TZID=US Mountain Standard Time:20260519T110000
LAST-MODIFIED:20260409T193138Z
LOCATION:4004 South Park Ave\, Tucson\, AZ
ORGANIZER;CN=Jacob Pawson via City of Tucson:MAILTO:0d860acb-6572-47c3-9c98
 -9ba6de98af63.21@oneteam.tucsonaz.gov
SEQUENCE:0
SUMMARY:DTM (Street Maintenance Div) Open Enrollment Meeting -- In-Person
UID:0d860acb-6572-47c3-9c98-9ba6de98af63
X-ALT-DESC;FMTTYPE=text/html;FMTTYPE=text/html:Thomas O. Price Service Cent
 er\, 4004 South Park Ave\, Amphitheater\n\n<hr/><div><p style='margin-righ
 t:0in\;margin-left:0in\;font-size:16px\;font-family:"Aptos"\,sans-serif\;m
 argin-top:0in\;margin-bottom:.25in\;font-size:11.0pt\;background:white\;' 
 id="isPasted"><span style="font-size:18px\;font-family:Montserrat\;color:#
 333333\;">Join Linda Kile\, your City Benefits Administrator to <strong><s
 pan style="font-family:Montserrat\;">learn about your 202</span></strong><
 /span><strong><span style="font-size:18px\;font-family:Montserrat\;color:#
 333333\;">6</span></strong><strong><span style="font-size:18px\;font-famil
 y:Montserrat\;color:#333333\;">-</span></strong><strong><span style="font-
 size:18px\;font-family:Montserrat\;color:#333333\;">27</span></strong> <st
 rong><span style="font-size:18px\;font-family:Montserrat\;color:#333333\;"
 >medical plan options.</span></strong><span style="font-size:18px\;font-fa
 mily:Montserrat\;color:#333333\;"> </span></p><p unsafe.style='margin-righ
 t:0in\;margin-left:0in\;font-size:16px\;font-family:"Aptos"\,sans-serif\;m
 argin-top:0in\;margin-bottom:.25in\;font-size:11.0pt\;background:white\;te
 xt-align:start\;'><span style="font-family:Montserrat\;color:#333333\;">As
  part of our commitment to provide comprehensive benefits\, we will be hol
 ding a positive enrollment this year. This means all <strong><span style="
 font-family:Montserrat\;">employees and retirees who would like to have me
 dical coverage starting July 1\, 20</span></strong></span><strong><span st
 yle="font-family:Montserrat\;color:#333333\;">26</span></strong> <strong><
 span style="font-family:Montserrat\;color:#333333\;">must actively enroll 
 and elect medical</span></strong><span style="font-family:Montserrat\;colo
 r:#333333\;"> coverage during the May 4 – June 1 5:PM Arizona time open en
 rollment period.</span></p><p unsafe.style='margin-right:0in\;margin-left:
 0in\;font-size:16px\;font-family:"Aptos"\,sans-serif\;margin-top:0in\;marg
 in-bottom:.25in\;font-size:11.0pt\;background:white\;text-align:start\;'><
 strong><span style="font-family:Montserrat\;color:#41A85F\;">This event is
  in-person at</span></strong> <strong><span style="font-family:Montserrat\
 ;color:#41A85F\;">the</span></strong> <strong><span style="font-family:Mon
 tserrat\;color:#41A85F\;">Thomas O. Price Service Center</span></strong> <
 strong><span style="font-family:Montserrat\;color:#41A85F\;">worksite loca
 tion.</span></strong></p></div>\n\n
END:VEVENT
END:VCALENDAR
