BEGIN:VCALENDAR
VERSION:2.0
METHOD:REQUEST
PRODID:-//ddaysoftware//NONSGML DDay.iCal 1.0//EN
BEGIN:VTIMEZONE
TZID:US Mountain Standard Time
BEGIN:STANDARD
DTSTART;VALUE=DATE:19000101
TZNAME:US Mountain Standard Time
TZOFFSETFROM:-0700
TZOFFSETTO:-0700
END:STANDARD
END:VTIMEZONE
BEGIN:VEVENT
DESCRIPTION:TPD HQ\, 270 S. Stone Ave\, Tucson\, AZ\, First Floor Conferenc
 e Room\n\nJoin Linda Kile\, your City Benefits Administrator to learn abou
 t your 2026-27 medical plan options. As part of our commitment to provide 
 comprehensive benefits\, we will be holding a positive enrollment this yea
 r. This means all employees and retirees who would like to have medical co
 verage starting July 1\, 2026 must actively enroll and elect medical cover
 age during the May 4 – June 1 5:PM Arizona time open enrollment period.Thi
 s event is in-person at the Tucson Police Headquarters worksite location.\
 n \n\n
DTEND;TZID=US Mountain Standard Time:20260505T103000
DTSTAMP:20260409T174439Z
DTSTART;TZID=US Mountain Standard Time:20260505T083000
LAST-MODIFIED:20260409T174439Z
LOCATION:270 S. Stone Ave\, Tucson\, AZ
ORGANIZER;CN=Jacob Pawson via City of Tucson:MAILTO:03ef3290-48af-48e1-9f0e
 -89edba00c313.21@oneteam.tucsonaz.gov
SEQUENCE:1
SUMMARY:TPD Open Enrollment Meeting -- In-Person
UID:03ef3290-48af-48e1-9f0e-89edba00c313
X-ALT-DESC;FMTTYPE=text/html;FMTTYPE=text/html:TPD HQ\, 270 S. Stone Ave\, 
 Tucson\, AZ\, First Floor Conference Room\n\n<hr/><div><p style='margin-ri
 ght:0in\;margin-left:0in\;font-size:16px\;font-family:"Aptos"\,sans-serif\
 ;margin-top:0in\;margin-bottom:.25in\;font-size:11.0pt\;background:white\;
 ' id="isPasted"><span style="font-size:18px\;font-family:Montserrat\;color
 :#333333\;">Join Linda Kile\, your City Benefits Administrator to <strong>
 <span style="font-family:Montserrat\;">learn about your 202</span></strong
 ></span><strong><span style="font-size:18px\;font-family:Montserrat\;color
 :#333333\;">6</span></strong><strong><span style="font-size:18px\;font-fam
 ily:Montserrat\;color:#333333\;">-</span></strong><strong><span style="fon
 t-size:18px\;font-family:Montserrat\;color:#333333\;">27</span></strong> <
 strong><span style="font-size:18px\;font-family:Montserrat\;color:#333333\
 ;">medical plan options.</span></strong><span style="font-size:18px\;font-
 family:Montserrat\;color:#333333\;"> </span></p><p><span style="font-famil
 y:Montserrat\;color:#333333\;">As part of our commitment to provide compre
 hensive benefits\, we will be holding a positive enrollment this year. Thi
 s means all <strong><span style="font-family:Montserrat\;">employees and r
 etirees who would like to have medical coverage starting July 1\, 20</span
 ></strong></span><strong><span style="font-family:Montserrat\;color:#33333
 3\;">26</span></strong> <strong><span style="font-family:Montserrat\;color
 :#333333\;">must actively enroll and elect medical</span></strong><span st
 yle="font-family:Montserrat\;color:#333333\;"> coverage during the May 4 –
  June 1 5:PM Arizona time open enrollment period.</span></p><p><strong><sp
 an style="font-family:Montserrat\;color:#41A85F\;">This event is in-person
  at the Tucson Police Headquarters</span></strong> <strong><span style="fo
 nt-family:Montserrat\;color:#41A85F\;">worksite location.</span></strong><
 /p><p style='margin-right:0in\;margin-left:0in\;font-size:16px\;font-famil
 y:"Aptos"\,sans-serif\;margin-top:0in\;margin-bottom:8.0pt\;font-size:11.0
 pt\;'> </p></div>\n\n
END:VEVENT
END:VCALENDAR
