BEGIN:VCALENDAR
VERSION:2.0
METHOD:REQUEST
PRODID:-//ddaysoftware//NONSGML DDay.iCal 1.0//EN
BEGIN:VTIMEZONE
TZID:US Mountain Standard Time
BEGIN:STANDARD
DTSTART;VALUE=DATE:19000101
TZNAME:US Mountain Standard Time
TZOFFSETFROM:-0700
TZOFFSETTO:-0700
END:STANDARD
END:VTIMEZONE
BEGIN:VEVENT
DESCRIPTION:Public Works Building\, 201 N Stone Ave\, Tucson\, 4th Floor La
 rge Conference Room\n\nJoin Linda Kile\, your City Benefits Administrator 
 to learn about your 2026-27 medical plan options. As part of our commitmen
 t to provide comprehensive benefits\, we will be holding a positive enroll
 ment this year. This means all employees and retirees who would like to ha
 ve medical coverage starting July 1\, 2026 must actively enroll and elect 
 medical coverage during the May 4 – June 1 5:PM Arizona time open enrollme
 nt period.This event is in-person at the Public Works Building worksite lo
 cation.\n\n
DTEND;TZID=US Mountain Standard Time:20260512T110000
DTSTAMP:20260409T192906Z
DTSTART;TZID=US Mountain Standard Time:20260512T090000
LAST-MODIFIED:20260409T192906Z
LOCATION:201 N Stone Ave\, Tucson
ORGANIZER;CN=Jacob Pawson via City of Tucson:MAILTO:027fffb3-d8fb-483f-90d6
 -c97358ae56ab.21@oneteam.tucsonaz.gov
SEQUENCE:2
SUMMARY:DTM (Downtown Divisions) Open Enrollment Meeting -- In-Person
UID:027fffb3-d8fb-483f-90d6-c97358ae56ab
X-ALT-DESC;FMTTYPE=text/html;FMTTYPE=text/html:Public Works Building\, 201 
 N Stone Ave\, Tucson\, 4th Floor Large Conference Room\n\n<hr/><div><p sty
 le='margin-right:0in\;margin-left:0in\;font-size:16px\;font-family:"Aptos"
 \,sans-serif\;margin-top:0in\;margin-bottom:.25in\;font-size:11.0pt\;backg
 round:white\;' id="isPasted"><span style="font-size:18px\;font-family:Mont
 serrat\;color:#333333\;">Join Linda Kile\, your City Benefits Administrato
 r to <strong><span style="font-family:Montserrat\;">learn about your 202</
 span></strong></span><strong><span style="font-size:18px\;font-family:Mont
 serrat\;color:#333333\;">6</span></strong><strong><span style="font-size:1
 8px\;font-family:Montserrat\;color:#333333\;">-</span></strong><strong><sp
 an style="font-size:18px\;font-family:Montserrat\;color:#333333\;">27</spa
 n></strong> <strong><span style="font-size:18px\;font-family:Montserrat\;c
 olor:#333333\;">medical plan options.</span></strong><span style="font-siz
 e:18px\;font-family:Montserrat\;color:#333333\;"> </span></p><p><span styl
 e="font-family:Montserrat\;color:#333333\;">As part of our commitment to p
 rovide comprehensive benefits\, we will be holding a positive enrollment t
 his year. This means all <strong><span style="font-family:Montserrat\;">em
 ployees and retirees who would like to have medical coverage starting July
  1\, 20</span></strong></span><strong><span style="font-family:Montserrat\
 ;color:#333333\;">26</span></strong> <strong><span style="font-family:Mont
 serrat\;color:#333333\;">must actively enroll and elect medical</span></st
 rong><span style="font-family:Montserrat\;color:#333333\;"> coverage durin
 g the May 4 – June 1 5:PM Arizona time open enrollment period.</span></p><
 p><strong><span style="font-family:Montserrat\;color:#41A85F\;">This event
  is in-person at</span></strong> <strong><span style="font-family:Montserr
 at\;color:#41A85F\;">the</span></strong><strong><span style="font-family:M
 ontserrat\;color:#41A85F\;"> Public Works Building </span></strong><strong
 ><span style="font-family:Montserrat\;color:#41A85F\;">worksite location.<
 /span></strong></p></div>\n\n
END:VEVENT
END:VCALENDAR
